BEGIN:VCALENDAR
PRODID:NingEventWidget-v1
VERSION:2.0
METHOD:PUBLISH
BEGIN:VTIMEZONE
TZID:America/Los_Angeles
X-LIC-LOCATION:America/Los_Angeles
BEGIN:DAYLIGHT
TZOFFSETFROM:-0800
TZOFFSETTO:-0700
TZNAME:PDT
DTSTART:19700308T020000
RRULE:FREQ=YEARLY;BYMONTH=3;BYDAY=2SU
END:DAYLIGHT
BEGIN:STANDARD
TZOFFSETFROM:-0700
TZOFFSETTO:-0800
TZNAME:PST
DTSTART:19701101T020000
RRULE:FREQ=YEARLY;BYMONTH=11;BYDAY=1SU
END:STANDARD
END:VTIMEZONE
BEGIN:VEVENT
UID:1688216:Event:367680
DTSTAMP:20260422T030122Z
SUMMARY:Saturday Night Smackdown and Barista Jam
DESCRIPTION:The first of many bad ass barista jams and Latte Art Smack
 downs to be held in the ATX. Informative, Fun, Community Driving and d
 id I mention . . . AWESOME!\n\nThe jam will start off with a cupping f
 rom different roasters from around Texas, followed by an in depth coff
 ee discussion, and of course, a winner take all pour-off.\n\nFor more 
 information go to http://saturdaynightsmackdown.blogspot.com/\n\nFor m
 ore information visit https://www.baristaexchange.com/events/saturday-
 night-smackdown-and
DTSTART;TZID=America/Los_Angeles:20090328T150000
DTEND;TZID=America/Los_Angeles:20090328T210000
CATEGORIES:latte, art, throwdown, barista, jam
LOCATION:Caffe Medici Guadalupe, Austin, TX
WEBSITE:http://maps.google.com/maps?f=q&hl=en&geocode=&q=2222+B+Guadal
 upe+St,+Austin,+TX&sll=30.276599,-97.753816&sspn=0.017345,0.033731&ie=
 UTF8&cd=1&layer=c&ll=30.283196,-97.738967&spn=0.017344,0.033731&z=15&c
 bll=30.285459,-97.741771&panoid=etU6mEAqEw1xgYd5j9816w
URL:http://maps.google.com/maps?f=q&hl=en&geocode=&q=2222+B+Guadalupe+
 St,+Austin,+TX&sll=30.276599,-97.753816&sspn=0.017345,0.033731&ie=UTF8
 &cd=1&layer=c&ll=30.283196,-97.738967&spn=0.017344,0.033731&z=15&cbll=
 30.285459,-97.741771&panoid=etU6mEAqEw1xgYd5j9816w
CONTACT:512-474-5730
ORGANIZER:Lorenzo Perkins, Patrick Pierce
ATTACH;FMTTYPE="image/jpeg":http://storage.ning.com/topology/rest/1.0/
 file/get/91905846?profile=original
ATTENDEE;ROLE=REQ-PARTICIPANT;PARTSTAT=ACCEPTED;RSVP=TRUE;CN="Sean Mar
 shall":https://www.baristaexchange.com/profile/SeanMarshall
ATTENDEE;ROLE=REQ-PARTICIPANT;PARTSTAT=ACCEPTED;RSVP=TRUE;CN=Lindsey:h
 ttps://www.baristaexchange.com/profile/Lindsey52
ATTENDEE;ROLE=REQ-PARTICIPANT;PARTSTAT=ACCEPTED;RSVP=TRUE;CN="Patrick 
 Pierce":https://www.baristaexchange.com/profile/PatrickPierce
ATTENDEE;ROLE=REQ-PARTICIPANT;PARTSTAT=ACCEPTED;RSVP=TRUE;CN=Michelle:
 https://www.baristaexchange.com/profile/Michelle93
ATTENDEE;ROLE=REQ-PARTICIPANT;PARTSTAT=ACCEPTED;RSVP=TRUE;CN="Max Gonz
 alez":https://www.baristaexchange.com/profile/MaxGonzalez
ATTENDEE;ROLE=REQ-PARTICIPANT;PARTSTAT=ACCEPTED;RSVP=TRUE;CN=Kristen:h
 ttps://www.baristaexchange.com/profile/deathbeforedecaf
ATTENDEE;ROLE=REQ-PARTICIPANT;PARTSTAT=ACCEPTED;RSVP=TRUE;CN="Dan Stre
 etman":https://www.baristaexchange.com/profile/DanStreetman
ATTENDEE;ROLE=REQ-PARTICIPANT;PARTSTAT=ACCEPTED;RSVP=TRUE;CN="Greenway
  Barista":https://www.baristaexchange.com/profile/BuehrerakaDonutDave
ATTENDEE;ROLE=REQ-PARTICIPANT;PARTSTAT=ACCEPTED;RSVP=TRUE;CN="Lorenzo 
 Perkins":https://www.baristaexchange.com/profile/Lorenzo
END:VEVENT
END:VCALENDAR
