BEGIN:VCALENDAR
PRODID:NingEventWidget-v1
VERSION:2.0
METHOD:PUBLISH
BEGIN:VTIMEZONE
TZID:America/Los_Angeles
X-LIC-LOCATION:America/Los_Angeles
BEGIN:DAYLIGHT
TZOFFSETFROM:-0800
TZOFFSETTO:-0700
TZNAME:PDT
DTSTART:19700308T020000
RRULE:FREQ=YEARLY;BYMONTH=3;BYDAY=2SU
END:DAYLIGHT
BEGIN:STANDARD
TZOFFSETFROM:-0700
TZOFFSETTO:-0800
TZNAME:PST
DTSTART:19701101T020000
RRULE:FREQ=YEARLY;BYMONTH=11;BYDAY=1SU
END:STANDARD
END:VTIMEZONE
BEGIN:VEVENT
UID:1688216:Event:602530
DTSTAMP:20260423T023436Z
SUMMARY:Saturday Night Smackdown
DESCRIPTION:This months SNS will be held at Clementine, over on the ea
 st side. Chris Cusack is heading up all of the planning from their end
 , and yours truly is simply supplying data sharing.\n\nA few change-up
 s (actually, the change-up would be if we kept it the same . . . what 
 can I say, we like to keep things interesting) are in store for everyo
 ne this Saturday. We will have THREE, that's right, THREE different la
 tte art throwdowns. Single Rosetta in an 8 oz, Double Rosetta in a 12 
 oz, and an unofficial \"Show Me What You GOT!\" best design in a cup o
 f your choice. Same $10 buy in, winner takes all. And yes, ladies and 
 gentlemen, you can enter all three throwdowns. That means the chance t
 o win the largest throwdown pot that Austin has ever seen!\n\nMike McK
 im of Cuvee Coffee will be answering some questions from Chris Cusack 
 about his latest trips to origin, Peru and Brazil, as well as taking a
 udience questions at the end.\n\nWe've got some live DJ's throwing dow
 n some awesome beats, great beer on tap (it is at Clementine after all
 ), and the chance to learn someting about coffee while showing off you
 r sick latte art skills. Be there, or be . . . you know what, just be 
 there.\n\nFor more information visit https://www.baristaexchange.com/e
 vents/saturday-night-smackdown-3
DTSTART;TZID=America/Los_Angeles:20090829T180000
DTEND;TZID=America/Los_Angeles:20090829T220000
CATEGORIES:"barista jam", "latte art throwdown"
LOCATION:Clementine Coffee Bar
WEBSITE:http://www.saturdaynightsmackdown.blogspot.com
URL:http://www.saturdaynightsmackdown.blogspot.com
CONTACT:
ORGANIZER:Chris Cusack, Lorenzo Perkins
ATTACH;FMTTYPE="image/jpeg":http://storage.ning.com/topology/rest/1.0/
 file/get/91909930?profile=original
ATTENDEE;ROLE=REQ-PARTICIPANT;PARTSTAT=ACCEPTED;RSVP=TRUE;CN="Dan Stre
 etman":https://www.baristaexchange.com/profile/DanStreetman
ATTENDEE;ROLE=REQ-PARTICIPANT;PARTSTAT=ACCEPTED;RSVP=TRUE;CN="Lorenzo 
 Perkins":https://www.baristaexchange.com/profile/Lorenzo
END:VEVENT
END:VCALENDAR
