BEGIN:VCALENDAR
PRODID:NingEventWidget-v1
VERSION:2.0
METHOD:PUBLISH
BEGIN:VTIMEZONE
TZID:America/Los_Angeles
X-LIC-LOCATION:America/Los_Angeles
BEGIN:DAYLIGHT
TZOFFSETFROM:-0800
TZOFFSETTO:-0700
TZNAME:PDT
DTSTART:19700308T020000
RRULE:FREQ=YEARLY;BYMONTH=3;BYDAY=2SU
END:DAYLIGHT
BEGIN:STANDARD
TZOFFSETFROM:-0700
TZOFFSETTO:-0800
TZNAME:PST
DTSTART:19701101T020000
RRULE:FREQ=YEARLY;BYMONTH=11;BYDAY=1SU
END:STANDARD
END:VTIMEZONE
BEGIN:VEVENT
UID:1688216:Event:470378
DTSTAMP:20260421T113952Z
SUMMARY:Saturday Night Smackdown
DESCRIPTION:The Smackdown is on like Donkey Kong . . . Get ready to br
 ing what you've got for Austin's premier Latte Art Throwdown and Baris
 ta Jam.\n\nRoom for 30 competitors, sign up starting at 5:00 pm, first
  come first served.\n\nThought provoking discussions on processing met
 hods. What do they really add to the coffee experience? Come and taste
  three coffees from the same farm, El Salvador's San Francisco Estate 
 Cerro Las Ranas, processed three different ways to find out.\n\nHope t
 o see ya'll there!\n\nFor more information visit https://www.baristaex
 change.com/events/saturday-night-smackdown-1
DTSTART;TZID=America/Los_Angeles:20090530T170000
DTEND;TZID=America/Los_Angeles:20090530T220000
CATEGORIES:"latte art throwdown", "barista jam"
LOCATION:Caffe Medici on Guadalupe
WEBSITE:http://www.saturdaynightsmackdown.blogspot.com
URL:http://www.saturdaynightsmackdown.blogspot.com
CONTACT:512-474-5730
ORGANIZER;CN="Lorenzo Perkins":https://www.baristaexchange.com/profile
 /Lorenzo
ATTACH;FMTTYPE="image/jpeg":http://storage.ning.com/topology/rest/1.0/
 file/get/91907292?profile=original
ATTENDEE;ROLE=REQ-PARTICIPANT;PARTSTAT=ACCEPTED;RSVP=TRUE;CN=Kathleen:
 https://www.baristaexchange.com/profile/Kathleen
ATTENDEE;ROLE=REQ-PARTICIPANT;PARTSTAT=ACCEPTED;RSVP=TRUE;CN="Tyler We
 lls":https://www.baristaexchange.com/profile/TylerWells
ATTENDEE;ROLE=REQ-PARTICIPANT;PARTSTAT=ACCEPTED;RSVP=TRUE;CN="Mitchell
  Tellstrom":https://www.baristaexchange.com/profile/MitchellTellstrom
ATTENDEE;ROLE=REQ-PARTICIPANT;PARTSTAT=ACCEPTED;RSVP=TRUE;CN="Jonathan
  Meadows":https://www.baristaexchange.com/profile/JonathanMeadows
ATTENDEE;ROLE=REQ-PARTICIPANT;PARTSTAT=ACCEPTED;RSVP=TRUE;CN="Jennifer
  Ramos Perkins":https://www.baristaexchange.com/profile/JenniferRamos
ATTENDEE;ROLE=REQ-PARTICIPANT;PARTSTAT=ACCEPTED;RSVP=TRUE;CN="Lorenzo 
 Perkins":https://www.baristaexchange.com/profile/Lorenzo
END:VEVENT
END:VCALENDAR
