BEGIN:VCALENDAR
PRODID:NingEventWidget-v1
VERSION:2.0
METHOD:PUBLISH
BEGIN:VTIMEZONE
TZID:America/Los_Angeles
X-LIC-LOCATION:America/Los_Angeles
BEGIN:DAYLIGHT
TZOFFSETFROM:-0800
TZOFFSETTO:-0700
TZNAME:PDT
DTSTART:19700308T020000
RRULE:FREQ=YEARLY;BYMONTH=3;BYDAY=2SU
END:DAYLIGHT
BEGIN:STANDARD
TZOFFSETFROM:-0700
TZOFFSETTO:-0800
TZNAME:PST
DTSTART:19701101T020000
RRULE:FREQ=YEARLY;BYMONTH=11;BYDAY=1SU
END:STANDARD
END:VTIMEZONE
BEGIN:VEVENT
UID:1688216:Event:864090
DTSTAMP:20260423T212238Z
SUMMARY:Robust Roasters Roasting School
DESCRIPTION:ROBUST ROASTERS is hosting a roasting training class Augus
 t 29th and 30th! Come learn how to roast your own coffee beans whether
  its for business or pleasure.\n\nThe fees for this course are $795 be
 fore taxes.\n\nAs a student of the ROBUST ROASTERS’ roasting class y
 ou will be eligible to receive a credit of $300.00 towards your next p
 urchase of a new Toper coffee roaster till December 30th, 2010 if you 
 are a new customer.\n\n***Offer expires December 30th, 2010. The $300 
 credit towards new Toper coffee roaster purchases applies to new ROBUS
 T ROASTERS customers only.\n\nCall me with any questions you may have 
 at 1-877-99-TOPER (86737).\n\nTia Labiri\n\nFor more information visit
  https://www.baristaexchange.com/events/robust-roasters-roasting
DTSTART;TZID=America/Los_Angeles:20100829T090000
DTEND;TZID=America/Los_Angeles:20100830T170000
CATEGORIES:educational
LOCATION:Toronto
WEBSITE:http://maps.google.com/maps?f=q&source=s_q&hl=en&geocode=&q=23
 70+Midland+Avenue,+Toronto,+Ontario,+Canada&sll=37.0625,-95.677068&ssp
 n=48.421237,113.818359&ie=UTF8&hq=&hnear=2370+Midland+Ave,+Toronto,+To
 ronto+Division,+Ontario+M1S+1V6,+Canada&ll=43.780235,-79.275799&spn=0.
 020946,0.055575&z=15&iwloc=r16
URL:http://maps.google.com/maps?f=q&source=s_q&hl=en&geocode=&q=2370+M
 idland+Avenue,+Toronto,+Ontario,+Canada&sll=37.0625,-95.677068&sspn=48
 .421237,113.818359&ie=UTF8&hq=&hnear=2370+Midland+Ave,+Toronto,+Toront
 o+Division,+Ontario+M1S+1V6,+Canada&ll=43.780235,-79.275799&spn=0.0209
 46,0.055575&z=15&iwloc=r16
CONTACT:416- 640- 2008
ORGANIZER;CN="Robust Roasters":https://www.baristaexchange.com/profile
 /RobustRoasters758
ATTACH;FMTTYPE="image/jpeg":http://storage.ning.com/topology/rest/1.0/
 file/get/91918097?profile=original
ATTENDEE;ROLE=REQ-PARTICIPANT;PARTSTAT=ACCEPTED;RSVP=TRUE;CN="Robust R
 oasters":https://www.baristaexchange.com/profile/RobustRoasters758
END:VEVENT
END:VCALENDAR
