BEGIN:VCALENDAR
PRODID:NingEventWidget-v1
VERSION:2.0
METHOD:PUBLISH
BEGIN:VTIMEZONE
TZID:America/Los_Angeles
X-LIC-LOCATION:America/Los_Angeles
BEGIN:DAYLIGHT
TZOFFSETFROM:-0800
TZOFFSETTO:-0700
TZNAME:PDT
DTSTART:19700308T020000
RRULE:FREQ=YEARLY;BYMONTH=3;BYDAY=2SU
END:DAYLIGHT
BEGIN:STANDARD
TZOFFSETFROM:-0700
TZOFFSETTO:-0800
TZNAME:PST
DTSTART:19701101T020000
RRULE:FREQ=YEARLY;BYMONTH=11;BYDAY=1SU
END:STANDARD
END:VTIMEZONE
BEGIN:VEVENT
UID:1688216:Event:961335
DTSTAMP:20260422T134617Z
SUMMARY:Roast Coffee and Tea Trading Company
DESCRIPTION:Please join us for our Grand Opening Event on the weekend 
 of November 13th. It will be an all day shindig both Saturday and Sund
 ay. If you can make it, please stop by and check everything out. We wi
 ll be doing raffles, free samplings, and other fun activities. Also, y
 ou will get an authentic 1st edition Roast Grand Opening Mug as well a
 s discounts galore for future tasty beverages.\n\nFor more information
  visit https://www.baristaexchange.com/events/roast-coffee-and-tea-tra
 ding
DTSTART;TZID=America/Los_Angeles:20101113T070000
DTEND;TZID=America/Los_Angeles:20101114T220000
CATEGORIES:grand, opening
LOCATION:Patchogue Village
WEBSITE:http://www.facebook.com/roastcoffeeandtea
URL:http://www.facebook.com/roastcoffeeandtea
CONTACT:631-627-3966
ORGANIZER;CN="Tiffany Rivera":https://www.baristaexchange.com/profile/
 TiffanyRivera
ATTACH;FMTTYPE="image/jpeg":http://storage.ning.com/topology/rest/1.0/
 file/get/91920299?profile=original
ATTENDEE;ROLE=REQ-PARTICIPANT;PARTSTAT=ACCEPTED;RSVP=TRUE;CN="Tiffany 
 Rivera":https://www.baristaexchange.com/profile/TiffanyRivera
END:VEVENT
END:VCALENDAR
