BEGIN:VCALENDAR
PRODID:NingEventWidget-v1
VERSION:2.0
METHOD:PUBLISH
BEGIN:VTIMEZONE
TZID:America/Los_Angeles
X-LIC-LOCATION:America/Los_Angeles
BEGIN:DAYLIGHT
TZOFFSETFROM:-0800
TZOFFSETTO:-0700
TZNAME:PDT
DTSTART:19700308T020000
RRULE:FREQ=YEARLY;BYMONTH=3;BYDAY=2SU
END:DAYLIGHT
BEGIN:STANDARD
TZOFFSETFROM:-0700
TZOFFSETTO:-0800
TZNAME:PST
DTSTART:19701101T020000
RRULE:FREQ=YEARLY;BYMONTH=11;BYDAY=1SU
END:STANDARD
END:VTIMEZONE
BEGIN:VEVENT
UID:1688216:Event:646010
DTSTAMP:20260421T212604Z
SUMMARY:Regional Skill Building Workshop
DESCRIPTION:Charlotte, North Carolina | November 13-15, 2009\nHosted b
 y: Dilworth Coffee\n\nAs the industry’s standard setter and leader i
 n professional development, SCAA Skill Building Workshops offer hands-
 on training, experienced instructors, the most current tools and infor
 mation, and a path to professional certification. Train, test, and cha
 llenge yourself by registering now.\n\nHOSTED BY DILWORTH COFFEE\nDATE
 : November 13-15, 2009\nTIME: Various Class Times\nLOCATION: Dilworth 
 Coffee, Charlotte NC\nMORE INFO AT: www.scaa.org\nREGISTER HERE\n\nFri
 day, November 13, 2009\nWorkshop#1- 9 a.m. - 12 p.m. Introduction to C
 upping\n(Beginners)\nWorkshop #2 -1 p.m. - 4 p.m. Comparative Cupping:
 \n(Intermediate)\n\nSaturday, November 14, 2009\nWorkshop #3 -9 a.m. -
  12 p.m. Introduction to Espresso\nWorkshop #4 -1 p.m. - 4 p.m. Hands-
 On Espresso\n\nSunday, November 15, 2009\nWorkshop #5 -9 a.m. - 12 p.m
 . BGA Milk & Latte Art\nWorkshop #6 -1 p.m. - 3 p.m. BGA Certification
  Level 1\n\nCHALLENGE WHAT YOU KNOW-SIGN UP TODAY\n\nFor more informat
 ion visit https://www.baristaexchange.com/events/regional-skill-buildi
 ng
DTSTART;TZID=America/Los_Angeles:20091113T000000
DTEND;TZID=America/Los_Angeles:20091115T235900
CATEGORIES:skill, building, workshop
LOCATION:Dilworth Coffee
WEBSITE:http://www.scaa.org
URL:http://www.scaa.org
CONTACT:
ORGANIZER:SCAA & Dilworth Coffee
ATTACH;FMTTYPE="image/jpeg":http://storage.ning.com/topology/rest/1.0/
 file/get/91912387?profile=original
ATTENDEE;ROLE=REQ-PARTICIPANT;PARTSTAT=ACCEPTED;RSVP=TRUE;CN="Tara She
 nson":https://www.baristaexchange.com/profile/TaraShenson
END:VEVENT
END:VCALENDAR
