BEGIN:VCALENDAR
PRODID:NingEventWidget-v1
VERSION:2.0
METHOD:PUBLISH
BEGIN:VTIMEZONE
TZID:America/Los_Angeles
X-LIC-LOCATION:America/Los_Angeles
BEGIN:DAYLIGHT
TZOFFSETFROM:-0800
TZOFFSETTO:-0700
TZNAME:PDT
DTSTART:19700308T020000
RRULE:FREQ=YEARLY;BYMONTH=3;BYDAY=2SU
END:DAYLIGHT
BEGIN:STANDARD
TZOFFSETFROM:-0700
TZOFFSETTO:-0800
TZNAME:PST
DTSTART:19701101T020000
RRULE:FREQ=YEARLY;BYMONTH=11;BYDAY=1SU
END:STANDARD
END:VTIMEZONE
BEGIN:VEVENT
UID:1688216:Event:881451
DTSTAMP:20260423T144440Z
SUMMARY:Puerto Rico Coffee Expo
DESCRIPTION:The Puerto Rico Coffee Expo is the biggest exposition of t
 he coffee industry to take place in Puerto Rico and the Caribbean. The
  event will be held in the Puerto Rico Convention Center in September 
 18-19 2010.\n\nFor more info: http://www.prcoffeeexpo.com\n\nFor more 
 information visit https://www.baristaexchange.com/events/puerto-rico-c
 offee-expo
DTSTART;TZID=America/Los_Angeles:20100918T090000
DTEND;TZID=America/Los_Angeles:20100919T170000
CATEGORIES:expo
LOCATION:Puerto Rico Convention Center
WEBSITE:http://www.prcoffeeexpo.com
URL:http://www.prcoffeeexpo.com
CONTACT:(787) 647.1157
ORGANIZER:CUBE Group Inc.
ATTACH;FMTTYPE="image/jpeg":http://storage.ning.com/topology/rest/1.0/
 file/get/91918440?profile=original
ATTENDEE;ROLE=REQ-PARTICIPANT;PARTSTAT=ACCEPTED;RSVP=TRUE;CN="Paul E G
 onzalez":https://www.baristaexchange.com/profile/PaulEGonzalez
END:VEVENT
END:VCALENDAR
