BEGIN:VCALENDAR
PRODID:NingEventWidget-v1
VERSION:2.0
METHOD:PUBLISH
BEGIN:VTIMEZONE
TZID:America/Los_Angeles
X-LIC-LOCATION:America/Los_Angeles
BEGIN:DAYLIGHT
TZOFFSETFROM:-0800
TZOFFSETTO:-0700
TZNAME:PDT
DTSTART:19700308T020000
RRULE:FREQ=YEARLY;BYMONTH=3;BYDAY=2SU
END:DAYLIGHT
BEGIN:STANDARD
TZOFFSETFROM:-0700
TZOFFSETTO:-0800
TZNAME:PST
DTSTART:19701101T020000
RRULE:FREQ=YEARLY;BYMONTH=11;BYDAY=1SU
END:STANDARD
END:VTIMEZONE
BEGIN:VEVENT
UID:1688216:Event:647077
DTSTAMP:20260421T181701Z
SUMMARY:Providence Barista Jam
DESCRIPTION:Providence can not be stopped! Our 6th jam in as many mont
 hs. This month's event is being hosted by Blue State Coffee at their T
 hayer Street location. Come join us pull shots, throwdown and compete 
 for the traveling trophy for best cafe in show- a 1960's electric perk
 !\nThis month's jam is the last opportunity to compete for a slot in t
 he finals \"The Oscars\". 10 baristas will throwdown for the grand pri
 ze Nuova Simonelli 1 group Oscar courtesy of New Harvest Coffee Roaste
 rs.\nNew Harvest organizes monthly jams in and around Providence in ho
 pes of creating and fostering a coffee culture in Rhode Island. Come j
 oin us!\n\nFor more information visit https://www.baristaexchange.com/
 events/providence-barista-jam
DTSTART;TZID=America/Los_Angeles:20091023T190000
DTEND;TZID=America/Los_Angeles:20091023T220000
CATEGORIES:barista, jam
LOCATION:Blue State Coffee
WEBSITE:http://maps.google.com/maps?f=q&source=s_q&hl=en&geocode=&q=30
 0+Thayer+Street+Providence,+RI+02906&vps=1&jsv=178b&sll=37.0625,-95.67
 7068&sspn=27.366321,72.158203&num=10&abstate=A:actbar-saveto
URL:http://maps.google.com/maps?f=q&source=s_q&hl=en&geocode=&q=300+Th
 ayer+Street+Providence,+RI+02906&vps=1&jsv=178b&sll=37.0625,-95.677068
 &sspn=27.366321,72.158203&num=10&abstate=A:actbar-saveto
CONTACT:
ORGANIZER;CN="Gerra Harrigan":https://www.baristaexchange.com/profile/
 GerraHarrigan
ATTACH;FMTTYPE="image/jpeg":
ATTENDEE;ROLE=REQ-PARTICIPANT;PARTSTAT=ACCEPTED;RSVP=TRUE;CN="Gerra Ha
 rrigan":https://www.baristaexchange.com/profile/GerraHarrigan
END:VEVENT
END:VCALENDAR
