BEGIN:VCALENDAR
PRODID:NingEventWidget-v1
VERSION:2.0
METHOD:PUBLISH
BEGIN:VTIMEZONE
TZID:America/Los_Angeles
X-LIC-LOCATION:America/Los_Angeles
BEGIN:DAYLIGHT
TZOFFSETFROM:-0800
TZOFFSETTO:-0700
TZNAME:PDT
DTSTART:19700308T020000
RRULE:FREQ=YEARLY;BYMONTH=3;BYDAY=2SU
END:DAYLIGHT
BEGIN:STANDARD
TZOFFSETFROM:-0700
TZOFFSETTO:-0800
TZNAME:PST
DTSTART:19701101T020000
RRULE:FREQ=YEARLY;BYMONTH=11;BYDAY=1SU
END:STANDARD
END:VTIMEZONE
BEGIN:VEVENT
UID:1688216:Event:472151
DTSTAMP:20260421T100131Z
SUMMARY:Processing tasting @ Intelly broadway
DESCRIPTION:This saturday I will be hosting a coffee tasting at my sho
 p in the Chicago lakeview area. It will consist of 2 pulped natural co
 ffees and 2 washed. 1 of the pulped natural and 1 of the washed come f
 rom the same farm in Panama and consist of the same varietal grown at 
 the same elevation. The other pulped natural is a sweet Brazil and the
  other washed is super new crop El Salvador that is not released yet. 
 It should be a neat opportunity to take a good look at how processing 
 effects a coffee. If you can make it the whole thing starts at 6 pm at
  the Broadway intelligentsia just south of Belmont.\n\nFor more inform
 ation visit https://www.baristaexchange.com/events/processing-tasting-
 intelly
DTSTART;TZID=America/Los_Angeles:20090523T180000
DTEND;TZID=America/Los_Angeles:20090523T200000
CATEGORIES:coffee, tasting
LOCATION:Intelligentsia broadway location in lakeview
WEBSITE:
URL:
CONTACT:
ORGANIZER:
ATTACH;FMTTYPE="image/jpeg":
ATTENDEE;ROLE=REQ-PARTICIPANT;PARTSTAT=ACCEPTED;RSVP=TRUE;CN="michael 
 Phillips":https://www.baristaexchange.com/profile/michaelPhillips
END:VEVENT
END:VCALENDAR
