BEGIN:VCALENDAR
PRODID:NingEventWidget-v1
VERSION:2.0
METHOD:PUBLISH
BEGIN:VTIMEZONE
TZID:America/Los_Angeles
X-LIC-LOCATION:America/Los_Angeles
BEGIN:DAYLIGHT
TZOFFSETFROM:-0800
TZOFFSETTO:-0700
TZNAME:PDT
DTSTART:19700308T020000
RRULE:FREQ=YEARLY;BYMONTH=3;BYDAY=2SU
END:DAYLIGHT
BEGIN:STANDARD
TZOFFSETFROM:-0700
TZOFFSETTO:-0800
TZNAME:PST
DTSTART:19701101T020000
RRULE:FREQ=YEARLY;BYMONTH=11;BYDAY=1SU
END:STANDARD
END:VTIMEZONE
BEGIN:VEVENT
UID:1688216:Event:969596
DTSTAMP:20260422T102903Z
SUMMARY:Prima Coffee Barista Bash 004 - Louisville, KY
DESCRIPTION:- Lots of free coffee brewed by lots of sweet equipment.\n
 - Presentation by Jaime van Schyndel of Barismo\n- \"Best Cup\" Manual
  Brewing Competition open to anyone (please register before the event 
 here!)\n- many more things, visit the Bash page for more details: Bari
 sta Bash 004\n\n\n\nFor more information visit https://www.baristaexch
 ange.com/events/prima-coffee-barista-bash-004
DTSTART;TZID=America/Los_Angeles:20101203T200000
DTEND;TZID=America/Los_Angeles:20101203T234500
CATEGORIES:barista, bash, "&", best, cup, competition
LOCATION:The Anchorage Cafe
WEBSITE:http://maps.google.com/maps?f=q&source=s_q&hl=en&q=11505+Park+
 Rd,+Louisville,+Jefferson,+Kentucky+40223&sll=38.235778,-85.651148&ssp
 n=0.159375,0.363579&ie=UTF8&oi=geospell&cd=1&geocode=FWDjRwIdUb_m-g&sp
 lit=0&hq=&hnear=11505+Park+Rd,+Louisville,+Jefferson,+Kentucky+40223&l
 l=38.266759,-85.540924&spn=0.079653,0.181789&z=13&iwloc=A
URL:http://maps.google.com/maps?f=q&source=s_q&hl=en&q=11505+Park+Rd,+
 Louisville,+Jefferson,+Kentucky+40223&sll=38.235778,-85.651148&sspn=0.
 159375,0.363579&ie=UTF8&oi=geospell&cd=1&geocode=FWDjRwIdUb_m-g&split=
 0&hq=&hnear=11505+Park+Rd,+Louisville,+Jefferson,+Kentucky+40223&ll=38
 .266759,-85.540924&spn=0.079653,0.181789&z=13&iwloc=A
CONTACT:888-837-7892
ORGANIZER;CN="Prima Coffee":https://www.baristaexchange.com/profile/pr
 imacoffee
ATTACH;FMTTYPE="image/jpeg":http://storage.ning.com/topology/rest/1.0/
 file/get/91920248?profile=original
ATTENDEE;ROLE=REQ-PARTICIPANT;PARTSTAT=ACCEPTED;RSVP=TRUE;CN="Chris Co
 ckrell":https://www.baristaexchange.com/profile/ChrisCockrell
ATTENDEE;ROLE=REQ-PARTICIPANT;PARTSTAT=ACCEPTED;RSVP=TRUE;CN="Prima Co
 ffee":https://www.baristaexchange.com/profile/primacoffee
END:VEVENT
END:VCALENDAR
