BEGIN:VCALENDAR
PRODID:NingEventWidget-v1
VERSION:2.0
METHOD:PUBLISH
BEGIN:VTIMEZONE
TZID:America/Los_Angeles
X-LIC-LOCATION:America/Los_Angeles
BEGIN:DAYLIGHT
TZOFFSETFROM:-0800
TZOFFSETTO:-0700
TZNAME:PDT
DTSTART:19700308T020000
RRULE:FREQ=YEARLY;BYMONTH=3;BYDAY=2SU
END:DAYLIGHT
BEGIN:STANDARD
TZOFFSETFROM:-0700
TZOFFSETTO:-0800
TZNAME:PST
DTSTART:19701101T020000
RRULE:FREQ=YEARLY;BYMONTH=11;BYDAY=1SU
END:STANDARD
END:VTIMEZONE
BEGIN:VEVENT
UID:1688216:Event:908967
DTSTAMP:20260423T162536Z
SUMMARY:Prima Coffee Barista Bash 003 - Louisville, KY
DESCRIPTION:\n\nFor more information visit https://www.baristaexchange
 .com/events/prima-coffee-barista-bash-003
DTSTART;TZID=America/Los_Angeles:20100917T200000
DTEND;TZID=America/Los_Angeles:20100918T000000
CATEGORIES:barista, bash, "&", latte, art, competition
LOCATION:Java Brewing Compay
WEBSITE:http://maps.google.com/maps?f=q&source=s_q&hl=en&geocode=&q=49
 01+Brownsboro+Road,+Louisville,+KY&sll=38.18216,-85.697429&sspn=0.0091
 42,0.022724&ie=UTF8&hq=&hnear=4901+Brownsboro+Rd,+Louisville,+Jefferso
 n,+Kentucky+40222&ll=38.297549,-85.622978&spn=0.036509,0.090895&z=14&i
 wloc=A
URL:http://maps.google.com/maps?f=q&source=s_q&hl=en&geocode=&q=4901+B
 rownsboro+Road,+Louisville,+KY&sll=38.18216,-85.697429&sspn=0.009142,0
 .022724&ie=UTF8&hq=&hnear=4901+Brownsboro+Rd,+Louisville,+Jefferson,+K
 entucky+40222&ll=38.297549,-85.622978&spn=0.036509,0.090895&z=14&iwloc
 =A
CONTACT:888-837-7892
ORGANIZER;CN="Prima Coffee":https://www.baristaexchange.com/profile/pr
 imacoffee
ATTACH;FMTTYPE="image/jpeg":http://storage.ning.com/topology/rest/1.0/
 file/get/91919151?profile=original
ATTENDEE;ROLE=REQ-PARTICIPANT;PARTSTAT=ACCEPTED;RSVP=TRUE;CN="Kirk Wil
 liams":https://www.baristaexchange.com/profile/KirkWilliams
ATTENDEE;ROLE=REQ-PARTICIPANT;PARTSTAT=ACCEPTED;RSVP=TRUE;CN="Peter Si
 eg":https://www.baristaexchange.com/profile/PeterSieg
ATTENDEE;ROLE=REQ-PARTICIPANT;PARTSTAT=ACCEPTED;RSVP=TRUE;CN="Prima Co
 ffee":https://www.baristaexchange.com/profile/primacoffee
ATTENDEE;ROLE=REQ-PARTICIPANT;PARTSTAT=TENTATIVE;RSVP=TRUE;CN="Chris C
 ockrell":https://www.baristaexchange.com/profile/ChrisCockrell
END:VEVENT
END:VCALENDAR
