BEGIN:VCALENDAR
PRODID:NingEventWidget-v1
VERSION:2.0
METHOD:PUBLISH
BEGIN:VTIMEZONE
TZID:America/Los_Angeles
X-LIC-LOCATION:America/Los_Angeles
BEGIN:DAYLIGHT
TZOFFSETFROM:-0800
TZOFFSETTO:-0700
TZNAME:PDT
DTSTART:19700308T020000
RRULE:FREQ=YEARLY;BYMONTH=3;BYDAY=2SU
END:DAYLIGHT
BEGIN:STANDARD
TZOFFSETFROM:-0700
TZOFFSETTO:-0800
TZNAME:PST
DTSTART:19701101T020000
RRULE:FREQ=YEARLY;BYMONTH=11;BYDAY=1SU
END:STANDARD
END:VTIMEZONE
BEGIN:VEVENT
UID:1688216:Event:496262
DTSTAMP:20260421T193403Z
SUMMARY:Preliminary Milwaukee Latte Art Throwdown
DESCRIPTION:\n\nFor more information visit https://www.baristaexchange
 .com/events/preliminary-milwaukee-latte
DTSTART;TZID=America/Los_Angeles:20090605T180000
DTEND;TZID=America/Los_Angeles:20090605T220000
CATEGORIES:preliminary, milwaukee, latte, art, throwdown
LOCATION:Alterra's Training Lab on Humboldt
WEBSITE:
URL:
CONTACT:
ORGANIZER:Scott Lucey
ATTACH;FMTTYPE="image/jpeg":
ATTENDEE;ROLE=REQ-PARTICIPANT;PARTSTAT=ACCEPTED;RSVP=TRUE;CN="courtney
  marie":https://www.baristaexchange.com/profile/0devxztyn3y18
ATTENDEE;ROLE=REQ-PARTICIPANT;PARTSTAT=ACCEPTED;RSVP=TRUE;CN="Steve Ke
 ssler":https://www.baristaexchange.com/profile/SteveKessler
ATTENDEE;ROLE=REQ-PARTICIPANT;PARTSTAT=ACCEPTED;RSVP=TRUE;CN=Eric:http
 s://www.baristaexchange.com/profile/Brewwright
END:VEVENT
END:VCALENDAR
