BEGIN:VCALENDAR
PRODID:NingEventWidget-v1
VERSION:2.0
METHOD:PUBLISH
BEGIN:VTIMEZONE
TZID:America/Los_Angeles
X-LIC-LOCATION:America/Los_Angeles
BEGIN:DAYLIGHT
TZOFFSETFROM:-0800
TZOFFSETTO:-0700
TZNAME:PDT
DTSTART:19700308T020000
RRULE:FREQ=YEARLY;BYMONTH=3;BYDAY=2SU
END:DAYLIGHT
BEGIN:STANDARD
TZOFFSETFROM:-0700
TZOFFSETTO:-0800
TZNAME:PST
DTSTART:19701101T020000
RRULE:FREQ=YEARLY;BYMONTH=11;BYDAY=1SU
END:STANDARD
END:VTIMEZONE
BEGIN:VEVENT
UID:1688216:Event:864784
DTSTAMP:20260425T213017Z
SUMMARY:Prairies Regional Barista Championsip
DESCRIPTION:For all those who live in the Canadian Prairies,\nShow us 
 what you've got!\n\nBaristas interested in registering please contact 
 vidar@rogers.com or call 416.784.5210.\n\nTop 3 baristas win automatic
  spots for the Canadian Barista Championship held in Toronto, ON in Se
 ptember at The Canadian Coffee & Tea Show. 4th and 5th place get put i
 nto a wild card draw.\n\nCome one, come all to check the action out.\n
 \nCompetitions will be broadcasted live on webcast. Details coming soo
 n.\n\nFor more information visit https://www.baristaexchange.com/event
 s/prairies-regional-barista
DTSTART;TZID=America/Los_Angeles:20100807T000000
DTEND;TZID=America/Los_Angeles:20100807T235900
CATEGORIES:competition
LOCATION:Fratello Coffee Roasters
WEBSITE:http://www.canadianbaristaacademy.com
URL:http://www.canadianbaristaacademy.com
CONTACT:1.416.784.5210
ORGANIZER;CN="Canadian Barista Championship":https://www.baristaexchan
 ge.com/profile/CanadianBaristaChampionship
ATTACH;FMTTYPE="image/jpeg":http://storage.ning.com/topology/rest/1.0/
 file/get/91918125?profile=original
ATTENDEE;ROLE=REQ-PARTICIPANT;PARTSTAT=ACCEPTED;RSVP=TRUE;CN="Canadian
  Barista Championship":https://www.baristaexchange.com/profile/Canadia
 nBaristaChampionship
ATTENDEE;ROLE=REQ-PARTICIPANT;PARTSTAT=TENTATIVE;RSVP=TRUE;CN="Andy Wi
 ebe":https://www.baristaexchange.com/profile/AndyWiebe
END:VEVENT
END:VCALENDAR
