BEGIN:VCALENDAR
PRODID:NingEventWidget-v1
VERSION:2.0
METHOD:PUBLISH
BEGIN:VTIMEZONE
TZID:America/Los_Angeles
X-LIC-LOCATION:America/Los_Angeles
BEGIN:DAYLIGHT
TZOFFSETFROM:-0800
TZOFFSETTO:-0700
TZNAME:PDT
DTSTART:19700308T020000
RRULE:FREQ=YEARLY;BYMONTH=3;BYDAY=2SU
END:DAYLIGHT
BEGIN:STANDARD
TZOFFSETFROM:-0700
TZOFFSETTO:-0800
TZNAME:PST
DTSTART:19701101T020000
RRULE:FREQ=YEARLY;BYMONTH=11;BYDAY=1SU
END:STANDARD
END:VTIMEZONE
BEGIN:VEVENT
UID:1688216:Event:605843
DTSTAMP:20260423T054245Z
SUMMARY:Prairie Sanctuary Closing Reception
DESCRIPTION:Come celebrate Prairie Sanctuary with us, the work of NW. 
 Artist Will Redwood, at The Clearing Cafe. Will has written and illust
 rated several children's books and showcases here some of that work. A
 rt, Grub, Community, join in!\n\nFor more information visit https://ww
 w.baristaexchange.com/events/prairie-sanctuary-closing
DTSTART;TZID=America/Los_Angeles:20090829T180000
DTEND;TZID=America/Los_Angeles:20090829T210000
CATEGORIES:art, show
LOCATION:NW. Portland
WEBSITE:http://www.theclearingcafe.com
URL:http://www.theclearingcafe.com
CONTACT:503.841.6240
ORGANIZER;CN="Alex C. McGregor":https://www.baristaexchange.com/profil
 e/AlexCMcGregor
ATTACH;FMTTYPE="image/jpeg":http://storage.ning.com/topology/rest/1.0/
 file/get/91910083?profile=original
ATTENDEE;ROLE=REQ-PARTICIPANT;PARTSTAT=ACCEPTED;RSVP=TRUE;CN="Alex C. 
 McGregor":https://www.baristaexchange.com/profile/AlexCMcGregor
END:VEVENT
END:VCALENDAR
