BEGIN:VCALENDAR
PRODID:NingEventWidget-v1
VERSION:2.0
METHOD:PUBLISH
BEGIN:VTIMEZONE
TZID:America/Los_Angeles
X-LIC-LOCATION:America/Los_Angeles
BEGIN:DAYLIGHT
TZOFFSETFROM:-0800
TZOFFSETTO:-0700
TZNAME:PDT
DTSTART:19700308T020000
RRULE:FREQ=YEARLY;BYMONTH=3;BYDAY=2SU
END:DAYLIGHT
BEGIN:STANDARD
TZOFFSETFROM:-0700
TZOFFSETTO:-0800
TZNAME:PST
DTSTART:19701101T020000
RRULE:FREQ=YEARLY;BYMONTH=11;BYDAY=1SU
END:STANDARD
END:VTIMEZONE
BEGIN:VEVENT
UID:1688216:Event:659370
DTSTAMP:20260422T005811Z
SUMMARY:Pour-over Station now at Anodyne Coffee Roasting Co.
DESCRIPTION:Yo Milwaukee area bX'ers\n\nTomorrow we'll be starting our
  Pour-over station at Anodyne. We'll be featuring two coffees and offe
 ring a 12oz size only. If you're in the area, stop on in for a cup!\n\
 nFor more information visit https://www.baristaexchange.com/events/pou
 rover-station-now-at
DTSTART;TZID=America/Los_Angeles:20091019T000000
DTEND;TZID=America/Los_Angeles:20091019T235900
CATEGORIES:new, pour-over, "stations!"
LOCATION:Anodyne Coffee Roasting Co.
WEBSITE:http://theespressolounge.wordpress.com
URL:http://theespressolounge.wordpress.com
CONTACT:414-489-0765
ORGANIZER;CN="Anodyne Coffee Roasting Co.":https://www.baristaexchange
 .com/profile/AnodyneCoffeeRoastingCo
ATTACH;FMTTYPE="image/jpeg":http://storage.ning.com/topology/rest/1.0/
 file/get/91912520?profile=original
ATTENDEE;ROLE=REQ-PARTICIPANT;PARTSTAT=ACCEPTED;RSVP=TRUE;CN="courtney
  marie":https://www.baristaexchange.com/profile/0devxztyn3y18
ATTENDEE;ROLE=REQ-PARTICIPANT;PARTSTAT=ACCEPTED;RSVP=TRUE;CN="Anodyne 
 Coffee Roasting Co.":https://www.baristaexchange.com/profile/AnodyneCo
 ffeeRoastingCo
ATTENDEE;ROLE=REQ-PARTICIPANT;PARTSTAT=TENTATIVE;RSVP=TRUE;CN="Shannon
  Smith":https://www.baristaexchange.com/profile/ShannonSmith
END:VEVENT
END:VCALENDAR
