BEGIN:VCALENDAR
PRODID:NingEventWidget-v1
VERSION:2.0
METHOD:PUBLISH
BEGIN:VTIMEZONE
TZID:America/Los_Angeles
X-LIC-LOCATION:America/Los_Angeles
BEGIN:DAYLIGHT
TZOFFSETFROM:-0800
TZOFFSETTO:-0700
TZNAME:PDT
DTSTART:19700308T020000
RRULE:FREQ=YEARLY;BYMONTH=3;BYDAY=2SU
END:DAYLIGHT
BEGIN:STANDARD
TZOFFSETFROM:-0700
TZOFFSETTO:-0800
TZNAME:PST
DTSTART:19701101T020000
RRULE:FREQ=YEARLY;BYMONTH=11;BYDAY=1SU
END:STANDARD
END:VTIMEZONE
BEGIN:VEVENT
UID:1688216:Event:650666
DTSTAMP:20260421T212605Z
SUMMARY:Philly TNT
DESCRIPTION:Come join the Baristas of Philadelphia in a throwdown awar
 ding cash and prizes.\n\nFor more information visit https://www.barist
 aexchange.com/events/philly-tnt
DTSTART;TZID=America/Los_Angeles:20091022T190000
DTEND;TZID=America/Los_Angeles:20091022T210000
CATEGORIES:latte, art, throwdown
LOCATION:Lovers and Madmen
WEBSITE:http://www.phillytnt.wordpress.com
URL:http://www.phillytnt.wordpress.com
CONTACT:
ORGANIZER;CN="Phil Proteau":https://www.baristaexchange.com/profile/Ph
 ilProteau
ATTACH;FMTTYPE="image/jpeg":http://storage.ning.com/topology/rest/1.0/
 file/get/91912336?profile=original
ATTENDEE;ROLE=REQ-PARTICIPANT;PARTSTAT=ACCEPTED;RSVP=TRUE;CN="Phil Pro
 teau":https://www.baristaexchange.com/profile/PhilProteau
END:VEVENT
END:VCALENDAR
