BEGIN:VCALENDAR
PRODID:NingEventWidget-v1
VERSION:2.0
METHOD:PUBLISH
BEGIN:VTIMEZONE
TZID:America/Los_Angeles
X-LIC-LOCATION:America/Los_Angeles
BEGIN:DAYLIGHT
TZOFFSETFROM:-0800
TZOFFSETTO:-0700
TZNAME:PDT
DTSTART:19700308T020000
RRULE:FREQ=YEARLY;BYMONTH=3;BYDAY=2SU
END:DAYLIGHT
BEGIN:STANDARD
TZOFFSETFROM:-0700
TZOFFSETTO:-0800
TZNAME:PST
DTSTART:19701101T020000
RRULE:FREQ=YEARLY;BYMONTH=11;BYDAY=1SU
END:STANDARD
END:VTIMEZONE
BEGIN:VEVENT
UID:1688216:Event:619966
DTSTAMP:20260423T200534Z
SUMMARY:Philadelphia TNT
DESCRIPTION:TNT, Thursday Night Throwdown-\nThis is the first monthly 
 TNT in Philadelphia, a town which is rapidly gaining more experienced 
 and talented Baristas by the week.\n\nFor more information visit https
 ://www.baristaexchange.com/events/philadelphia-tnt
DTSTART;TZID=America/Los_Angeles:20090924T190000
DTEND;TZID=America/Los_Angeles:20090924T230000
CATEGORIES:latte, art, throwdown
LOCATION:Lovers and Madmen
WEBSITE:http://www.phillytnt.wordpress.com
URL:http://www.phillytnt.wordpress.com
CONTACT:
ORGANIZER:
ATTACH;FMTTYPE="image/jpeg":http://storage.ning.com/topology/rest/1.0/
 file/get/91910773?profile=original
ATTENDEE;ROLE=REQ-PARTICIPANT;PARTSTAT=ACCEPTED;RSVP=TRUE;CN="Phil Pro
 teau":https://www.baristaexchange.com/profile/PhilProteau
END:VEVENT
END:VCALENDAR
