BEGIN:VCALENDAR
PRODID:NingEventWidget-v1
VERSION:2.0
METHOD:PUBLISH
BEGIN:VTIMEZONE
TZID:America/Los_Angeles
X-LIC-LOCATION:America/Los_Angeles
BEGIN:DAYLIGHT
TZOFFSETFROM:-0800
TZOFFSETTO:-0700
TZNAME:PDT
DTSTART:19700308T020000
RRULE:FREQ=YEARLY;BYMONTH=3;BYDAY=2SU
END:DAYLIGHT
BEGIN:STANDARD
TZOFFSETFROM:-0700
TZOFFSETTO:-0800
TZNAME:PST
DTSTART:19701101T020000
RRULE:FREQ=YEARLY;BYMONTH=11;BYDAY=1SU
END:STANDARD
END:VTIMEZONE
BEGIN:VEVENT
UID:1688216:Event:996203
DTSTAMP:20260421T231526Z
SUMMARY:Out of The Box SF
DESCRIPTION:OUT OF THE BOX Berkeley is free and open to all in the sp
 ecialty coffee industry and friends. No RSVP needed. Classes are free
  and available on a first come, first served basis.Read OUT OF THE BOX
  Berkeley event updates at:lamarzoccousa.wordpress.com\n\nFor more inf
 ormation visit https://www.baristaexchange.com/events/out-of-the-box-s
 f
DTSTART;TZID=America/Los_Angeles:20110118T100000
DTEND;TZID=America/Los_Angeles:20110119T220000
CATEGORIES:community
LOCATION:The Marsh
WEBSITE:http://lamarzoccousa.wordpress.com/
URL:http://lamarzoccousa.wordpress.com/
CONTACT:206.706.9104
ORGANIZER:Jack Kuo
ATTACH;FMTTYPE="image/jpeg":
ATTENDEE;ROLE=REQ-PARTICIPANT;PARTSTAT=ACCEPTED;RSVP=TRUE;CN="Scott Gu
 glielmino":https://www.baristaexchange.com/profile/ScottGuglielmino
END:VEVENT
END:VCALENDAR
