BEGIN:VCALENDAR
PRODID:NingEventWidget-v1
VERSION:2.0
METHOD:PUBLISH
BEGIN:VTIMEZONE
TZID:America/Los_Angeles
X-LIC-LOCATION:America/Los_Angeles
BEGIN:DAYLIGHT
TZOFFSETFROM:-0800
TZOFFSETTO:-0700
TZNAME:PDT
DTSTART:19700308T020000
RRULE:FREQ=YEARLY;BYMONTH=3;BYDAY=2SU
END:DAYLIGHT
BEGIN:STANDARD
TZOFFSETFROM:-0700
TZOFFSETTO:-0800
TZNAME:PST
DTSTART:19701101T020000
RRULE:FREQ=YEARLY;BYMONTH=11;BYDAY=1SU
END:STANDARD
END:VTIMEZONE
BEGIN:VEVENT
UID:1688216:Event:555427
DTSTAMP:20260422T181533Z
SUMMARY:One World Cafe' hosts Barista Throwdown! 5$ Buy-in, winner tak
 es all
DESCRIPTION:One World Cafe' is hosting a Barista Throwdown on Sunday, 
 August 23rd at 7:00 PM. The event will run from 7PM until as long as i
 t takes! Prizes will be awarded to the top four, and winner goes home 
 with the cash too. Downtown Moscow businesses are chipping in with mer
 chandise & gift certificates, so be sure to bring your 5$, and all you
 r skills!\n\nFor more information visit https://www.baristaexchange.co
 m/events/one-world-cafe-hosts-barista
DTSTART;TZID=America/Los_Angeles:20090823T190000
DTEND;TZID=America/Los_Angeles:20090823T220000
CATEGORIES:throwdown
LOCATION:One World Cafe
WEBSITE:http://maps.google.com/maps?f=q&source=s_q&hl=en&geocode=&q=53
 3+S+Main+St,+Moscow,+ID+83843&sll=46.407409,-117.029082&sspn=0.008108,
 0.019205&ie=UTF8&ll=46.731037,-117.001584&spn=0.00806,0.019205&z=16
URL:http://maps.google.com/maps?f=q&source=s_q&hl=en&geocode=&q=533+S+
 Main+St,+Moscow,+ID+83843&sll=46.407409,-117.029082&sspn=0.008108,0.01
 9205&ie=UTF8&ll=46.731037,-117.001584&spn=0.00806,0.019205&z=16
CONTACT:
ORGANIZER;CN="Andrew R. Tucker":https://www.baristaexchange.com/profil
 e/AndrewRTucker
ATTACH;FMTTYPE="image/jpeg":http://storage.ning.com/topology/rest/1.0/
 file/get/91908640?profile=original
ATTENDEE;ROLE=REQ-PARTICIPANT;PARTSTAT=ACCEPTED;RSVP=TRUE;CN="Andrew R
 . Tucker":https://www.baristaexchange.com/profile/AndrewRTucker
END:VEVENT
END:VCALENDAR
