BEGIN:VCALENDAR
PRODID:NingEventWidget-v1
VERSION:2.0
METHOD:PUBLISH
BEGIN:VTIMEZONE
TZID:America/Los_Angeles
X-LIC-LOCATION:America/Los_Angeles
BEGIN:DAYLIGHT
TZOFFSETFROM:-0800
TZOFFSETTO:-0700
TZNAME:PDT
DTSTART:19700308T020000
RRULE:FREQ=YEARLY;BYMONTH=3;BYDAY=2SU
END:DAYLIGHT
BEGIN:STANDARD
TZOFFSETFROM:-0700
TZOFFSETTO:-0800
TZNAME:PST
DTSTART:19701101T020000
RRULE:FREQ=YEARLY;BYMONTH=11;BYDAY=1SU
END:STANDARD
END:VTIMEZONE
BEGIN:VEVENT
UID:1688216:Event:447383
DTSTAMP:20260421T083941Z
SUMMARY:Once Over Grand Opening
DESCRIPTION:Come one, come all to ONCE OVER COFFEE BAR'S GRAND OPENING
  PARTY!\n\n\nSaturday, May 2nd 2pm-6pm\n2009 S. 1st Street (between Ma
 ry and Live Oak*)\n\n\nLIVE MUSIC\nThe Brimmers - 4pm\n\nSaint Joe's C
 hoir - 3pm\n\n\nFREE BEER (while it lasts) on the new deck over lookin
 g Bouldin Creek\n\n\nFREE CAPPUCCINOS 2pm-4pm\n\n\n*find additional pa
 rking on Once Over's side of Live Oak, please do not park in front of 
 houses if possible, thanks!\n\n\nSee you there!\n\nFor more informatio
 n visit https://www.baristaexchange.com/events/once-over-grand-opening
DTSTART;TZID=America/Los_Angeles:20090502T140000
DTEND;TZID=America/Los_Angeles:20090502T180000
CATEGORIES:grand, opening
LOCATION:Once Over Coffee Bar
WEBSITE:http://www.onceovercoffeebar.com/
URL:http://www.onceovercoffeebar.com/
CONTACT:512/326-9575
ORGANIZER:Rob and Jenee Ovitt
ATTACH;FMTTYPE="image/jpeg":http://storage.ning.com/topology/rest/1.0/
 file/get/91906751?profile=original
ATTENDEE;ROLE=REQ-PARTICIPANT;PARTSTAT=ACCEPTED;RSVP=TRUE;CN="Garold L
 aRue III":https://www.baristaexchange.com/profile/GaroldLaRueIII
ATTENDEE;ROLE=REQ-PARTICIPANT;PARTSTAT=ACCEPTED;RSVP=TRUE;CN="Jennifer
  Ramos Perkins":https://www.baristaexchange.com/profile/JenniferRamos
ATTENDEE;ROLE=REQ-PARTICIPANT;PARTSTAT=ACCEPTED;RSVP=TRUE;CN="Mitchell
  Tellstrom":https://www.baristaexchange.com/profile/MitchellTellstrom
ATTENDEE;ROLE=REQ-PARTICIPANT;PARTSTAT=ACCEPTED;RSVP=TRUE;CN="Lorenzo 
 Perkins":https://www.baristaexchange.com/profile/Lorenzo
ATTENDEE;ROLE=REQ-PARTICIPANT;PARTSTAT=TENTATIVE;RSVP=TRUE;CN=Kristen:
 https://www.baristaexchange.com/profile/deathbeforedecaf
END:VEVENT
END:VCALENDAR
