BEGIN:VCALENDAR
PRODID:NingEventWidget-v1
VERSION:2.0
METHOD:PUBLISH
BEGIN:VTIMEZONE
TZID:America/Los_Angeles
X-LIC-LOCATION:America/Los_Angeles
BEGIN:DAYLIGHT
TZOFFSETFROM:-0800
TZOFFSETTO:-0700
TZNAME:PDT
DTSTART:19700308T020000
RRULE:FREQ=YEARLY;BYMONTH=3;BYDAY=2SU
END:DAYLIGHT
BEGIN:STANDARD
TZOFFSETFROM:-0700
TZOFFSETTO:-0800
TZNAME:PST
DTSTART:19701101T020000
RRULE:FREQ=YEARLY;BYMONTH=11;BYDAY=1SU
END:STANDARD
END:VTIMEZONE
BEGIN:VEVENT
UID:1688216:Event:999826
DTSTAMP:20260421T145250Z
SUMMARY:NW Roasters Group meeting, Feb. 5, 2011
DESCRIPTION:Don't miss the Northwest Roaster's Group Winter Gathering,
  February 4th & 5th, in Portland, Oregon. Hosted by Water Ave. Coffee 
 and the American Barista Coffee School\nWe are delighted to announce a
  day full of Burundi Coffee. Coffee delegates from Burundi will travel
  to Portland to share their Burundi coffee knowledge. The weekend star
 ts on Friday night with a social gathering welcoming our special guest
 s. Saturday begins with a tasty continental breakfast. The morning lec
 ture session includes a discussion on Burundi coffee and a cupping. Lu
 nch will be provided and followed by discussion on roasting equipment 
 maintenance. We will move into a demonstration of single-serve applica
 tions and end the day with a distillery tour and spirit tasting.\nThe 
 cost is $25 and includes all training classes, tour, breakfast, and lu
 nch.\nJoin your fellow Northwest roasters for another momentous event!
  We only have room for 40 roasters so sign up today! \nEmail me for a
  registration form at connie@roastmagazine.com \n\nFor more informati
 on visit https://www.baristaexchange.com/events/nw-roasters-group-meet
 ing-feb
DTSTART;TZID=America/Los_Angeles:20110205T080000
DTEND;TZID=America/Los_Angeles:20110205T170000
CATEGORIES:nw, roasters, meeting
LOCATION:American Barista Coffee School
WEBSITE:
URL:
CONTACT:
ORGANIZER;CN="Connie Blumhardt":https://www.baristaexchange.com/profil
 e/ConnieBlumhardt
ATTACH;FMTTYPE="image/jpeg":
ATTENDEE;ROLE=REQ-PARTICIPANT;PARTSTAT=ACCEPTED;RSVP=TRUE;CN="Brian Gr
 egory":https://www.baristaexchange.com/profile/BrianGregory
ATTENDEE;ROLE=REQ-PARTICIPANT;PARTSTAT=ACCEPTED;RSVP=TRUE;CN="Connie B
 lumhardt":https://www.baristaexchange.com/profile/ConnieBlumhardt
END:VEVENT
END:VCALENDAR
