BEGIN:VCALENDAR
PRODID:NingEventWidget-v1
VERSION:2.0
METHOD:PUBLISH
BEGIN:VTIMEZONE
TZID:America/Los_Angeles
X-LIC-LOCATION:America/Los_Angeles
BEGIN:DAYLIGHT
TZOFFSETFROM:-0800
TZOFFSETTO:-0700
TZNAME:PDT
DTSTART:19700308T020000
RRULE:FREQ=YEARLY;BYMONTH=3;BYDAY=2SU
END:DAYLIGHT
BEGIN:STANDARD
TZOFFSETFROM:-0700
TZOFFSETTO:-0800
TZNAME:PST
DTSTART:19701101T020000
RRULE:FREQ=YEARLY;BYMONTH=11;BYDAY=1SU
END:STANDARD
END:VTIMEZONE
BEGIN:VEVENT
UID:1688216:Event:961557
DTSTAMP:20260421T195659Z
SUMMARY:North West Regional Barista Competition
DESCRIPTION:The first RBC of the 2011 cycle has been announced! The NW
 RBC will take place on Jan 28-Jan 30th, 2011 and will be hosted by Dil
 lanos (www.dillanos.com).\n\nQuick Links:\nRegister to Compete: coming
  soon!\nNW Website page: http://usbaristachampionship.org/?p=northwest
 \nSponsorship info: http://usbaristachampionship.org/?p=northwest\n\nT
 he National USBC Competition will take place in conjunction with the 2
 3rd annual SCAA Exposition and Symposium in Houston, TX April 27th –
  May 1st 2011. There are three rounds of judging at the national event
 : the preliminary round, the semi-finals, and the finals. Competitors 
 who advance to the finals will compete against six of the most highly 
 skilled baristas in the country for the title of 2011 United States Ba
 rista Champion. The winner will represent the United States at the Wor
 ld Barista Championship, which will be held in Bogota, Colombia June 2
 -5, 2011.\n\nFor more information visit https://www.baristaexchange.co
 m/events/north-west-regional-barista
DTSTART;TZID=America/Los_Angeles:20110128T000000
DTEND;TZID=America/Los_Angeles:20110130T235900
CATEGORIES:barista, competition
LOCATION:Tacoma Convention Center
WEBSITE:http://usbaristachampionship.org/?p=northwest
URL:http://usbaristachampionship.org/?p=northwest
CONTACT:562.624.4100
ORGANIZER:SCAA
ATTACH;FMTTYPE="image/jpeg":http://storage.ning.com/topology/rest/1.0/
 file/get/91920271?profile=original
ATTENDEE;ROLE=REQ-PARTICIPANT;PARTSTAT=ACCEPTED;RSVP=TRUE;CN=Brandon:h
 ttps://www.baristaexchange.com/profile/Brandon93
ATTENDEE;ROLE=REQ-PARTICIPANT;PARTSTAT=ACCEPTED;RSVP=TRUE;CN="Rusty An
 gell":https://www.baristaexchange.com/profile/RustyAngell
ATTENDEE;ROLE=REQ-PARTICIPANT;PARTSTAT=ACCEPTED;RSVP=TRUE;CN="Nathanae
 l May":https://www.baristaexchange.com/profile/NathanaelMay448
ATTENDEE;ROLE=REQ-PARTICIPANT;PARTSTAT=ACCEPTED;RSVP=TRUE;CN="Mike McG
 inness":https://www.baristaexchange.com/profile/miKemcKoffeeakaMikeMcG
 inness
ATTENDEE;ROLE=REQ-PARTICIPANT;PARTSTAT=ACCEPTED;RSVP=TRUE;CN="Tara She
 nson":https://www.baristaexchange.com/profile/TaraShenson
ATTENDEE;ROLE=REQ-PARTICIPANT;PARTSTAT=TENTATIVE;RSVP=TRUE;CN="Johnbru
 ce Haslett (JB)":https://www.baristaexchange.com/profile/JohnbruceHasl
 ettJB
END:VEVENT
END:VCALENDAR
