BEGIN:VCALENDAR
PRODID:NingEventWidget-v1
VERSION:2.0
METHOD:PUBLISH
BEGIN:VTIMEZONE
TZID:America/Los_Angeles
X-LIC-LOCATION:America/Los_Angeles
BEGIN:DAYLIGHT
TZOFFSETFROM:-0800
TZOFFSETTO:-0700
TZNAME:PDT
DTSTART:19700308T020000
RRULE:FREQ=YEARLY;BYMONTH=3;BYDAY=2SU
END:DAYLIGHT
BEGIN:STANDARD
TZOFFSETFROM:-0700
TZOFFSETTO:-0800
TZNAME:PST
DTSTART:19701101T020000
RRULE:FREQ=YEARLY;BYMONTH=11;BYDAY=1SU
END:STANDARD
END:VTIMEZONE
BEGIN:VEVENT
UID:1688216:Event:975197
DTSTAMP:20260421T081744Z
SUMMARY:North Central Regional Barista Competition
DESCRIPTION:Quick Links:Register to Compete: http://bit.ly/i0ha2n\nNC 
 Website page: http://usbaristachampionship.org/?p=northcentralSponsors
 hip info: http://usbaristachampionship.org/?p=northcentralThe National
  USBC Competition will take place in conjunction with the 23rd annual 
 SCAA Exposition and Symposium in Houston, TX April 27th – May 1st 20
 11. There are three rounds of judging at the national event: the preli
 minary round, the semi-finals, and the finals. Competitors who advance
  to the finals will compete against six of the most highly skilled bar
 istas in the country for the title of 2011 United States Barista Champ
 ion. The winner will represent the United States at the World Barista 
 Championship, which will be held in Bogota, Colombia June 2-5, 2011.\n
 \nFor more information visit https://www.baristaexchange.com/events/no
 rth-central-regional-barista
DTSTART;TZID=America/Los_Angeles:20110218T120000
DTEND;TZID=America/Los_Angeles:20110220T170000
CATEGORIES:barista, competition
LOCATION:Coffee Fest Chicago
WEBSITE:http://usbaristachampionship.org/?p=northcentral
URL:http://usbaristachampionship.org/?p=northcentral
CONTACT:
ORGANIZER:SCAA
ATTACH;FMTTYPE="image/jpeg":http://storage.ning.com/topology/rest/1.0/
 file/get/91920498?profile=original
ATTENDEE;ROLE=REQ-PARTICIPANT;PARTSTAT=ACCEPTED;RSVP=TRUE;CN="Ryan Sco
 tt":https://www.baristaexchange.com/profile/RyanScott
ATTENDEE;ROLE=REQ-PARTICIPANT;PARTSTAT=ACCEPTED;RSVP=TRUE;CN="Heather 
 Holly Haller":https://www.baristaexchange.com/profile/Heather
ATTENDEE;ROLE=REQ-PARTICIPANT;PARTSTAT=ACCEPTED;RSVP=TRUE;CN="Ryan Wil
 lbur":https://www.baristaexchange.com/profile/RyanWillbur
ATTENDEE;ROLE=REQ-PARTICIPANT;PARTSTAT=ACCEPTED;RSVP=TRUE;CN="Jeremiah
  Taylor":https://www.baristaexchange.com/profile/JeremiahTaylor
ATTENDEE;ROLE=REQ-PARTICIPANT;PARTSTAT=ACCEPTED;RSVP=TRUE;CN=Justin:ht
 tps://www.baristaexchange.com/profile/Justin9
ATTENDEE;ROLE=REQ-PARTICIPANT;PARTSTAT=ACCEPTED;RSVP=TRUE;CN="Kelly Fi
 neman":https://www.baristaexchange.com/profile/KellyFineman
ATTENDEE;ROLE=REQ-PARTICIPANT;PARTSTAT=ACCEPTED;RSVP=TRUE;CN="The Cash
 erman":https://www.baristaexchange.com/profile/Casherman
ATTENDEE;ROLE=REQ-PARTICIPANT;PARTSTAT=ACCEPTED;RSVP=TRUE;CN="Mike Str
 umpf":https://www.baristaexchange.com/profile/MikeStrumpf
ATTENDEE;ROLE=REQ-PARTICIPANT;PARTSTAT=ACCEPTED;RSVP=TRUE;CN="michael 
 v comerford iii":https://www.baristaexchange.com/profile/michaelvcomer
 fordiii
ATTENDEE;ROLE=REQ-PARTICIPANT;PARTSTAT=ACCEPTED;RSVP=TRUE;CN="Dustin S
 heldon":https://www.baristaexchange.com/profile/DustinSheldon
ATTENDEE;ROLE=REQ-PARTICIPANT;PARTSTAT=ACCEPTED;RSVP=TRUE;CN="Tara She
 nson":https://www.baristaexchange.com/profile/TaraShenson
END:VEVENT
END:VCALENDAR
