BEGIN:VCALENDAR
PRODID:NingEventWidget-v1
VERSION:2.0
METHOD:PUBLISH
BEGIN:VTIMEZONE
TZID:America/Los_Angeles
X-LIC-LOCATION:America/Los_Angeles
BEGIN:DAYLIGHT
TZOFFSETFROM:-0800
TZOFFSETTO:-0700
TZNAME:PDT
DTSTART:19700308T020000
RRULE:FREQ=YEARLY;BYMONTH=3;BYDAY=2SU
END:DAYLIGHT
BEGIN:STANDARD
TZOFFSETFROM:-0700
TZOFFSETTO:-0800
TZNAME:PST
DTSTART:19701101T020000
RRULE:FREQ=YEARLY;BYMONTH=11;BYDAY=1SU
END:STANDARD
END:VTIMEZONE
BEGIN:VEVENT
UID:1688216:Event:651045
DTSTAMP:20260421T131202Z
SUMMARY:Noble Tree Knock Out
DESCRIPTION:A latte art throw down with the party to match.\n\nFor mor
 e information visit https://www.baristaexchange.com/events/noble-tree-
 knock-out
DTSTART;TZID=America/Los_Angeles:20091025T210000
DTEND;TZID=America/Los_Angeles:20091026T000000
CATEGORIES:throwdown
LOCATION:Lincoln Park
WEBSITE:http://www.nobletreecoffee.com
URL:http://www.nobletreecoffee.com
CONTACT:847-946-4096
ORGANIZER;CN=tif:https://www.baristaexchange.com/profile/tif
ATTACH;FMTTYPE="image/jpeg":http://storage.ning.com/topology/rest/1.0/
 file/get/91912267?profile=original
ATTENDEE;ROLE=REQ-PARTICIPANT;PARTSTAT=ACCEPTED;RSVP=TRUE;CN=Dex:https
 ://www.baristaexchange.com/profile/Dee
ATTENDEE;ROLE=REQ-PARTICIPANT;PARTSTAT=ACCEPTED;RSVP=TRUE;CN="Nathan L
 yle Black":https://www.baristaexchange.com/profile/NathanLyleBlack
ATTENDEE;ROLE=REQ-PARTICIPANT;PARTSTAT=ACCEPTED;RSVP=TRUE;CN="brett fe
 lchner":https://www.baristaexchange.com/profile/BrettF
ATTENDEE;ROLE=REQ-PARTICIPANT;PARTSTAT=ACCEPTED;RSVP=TRUE;CN=Liza:http
 s://www.baristaexchange.com/profile/Liza
ATTENDEE;ROLE=REQ-PARTICIPANT;PARTSTAT=ACCEPTED;RSVP=TRUE;CN=tif:https
 ://www.baristaexchange.com/profile/tif
ATTENDEE;ROLE=REQ-PARTICIPANT;PARTSTAT=TENTATIVE;RSVP=TRUE;CN="Anodyne
  Coffee Roasting Co.":https://www.baristaexchange.com/profile/AnodyneC
 offeeRoastingCo
ATTENDEE;ROLE=REQ-PARTICIPANT;PARTSTAT=TENTATIVE;RSVP=TRUE;CN="Sara Tr
 avis":https://www.baristaexchange.com/profile/SaraTravis
END:VEVENT
END:VCALENDAR
