BEGIN:VCALENDAR
PRODID:NingEventWidget-v1
VERSION:2.0
METHOD:PUBLISH
BEGIN:VTIMEZONE
TZID:America/Los_Angeles
X-LIC-LOCATION:America/Los_Angeles
BEGIN:DAYLIGHT
TZOFFSETFROM:-0800
TZOFFSETTO:-0700
TZNAME:PDT
DTSTART:19700308T020000
RRULE:FREQ=YEARLY;BYMONTH=3;BYDAY=2SU
END:DAYLIGHT
BEGIN:STANDARD
TZOFFSETFROM:-0700
TZOFFSETTO:-0800
TZNAME:PST
DTSTART:19701101T020000
RRULE:FREQ=YEARLY;BYMONTH=11;BYDAY=1SU
END:STANDARD
END:VTIMEZONE
BEGIN:VEVENT
UID:1688216:Event:953099
DTSTAMP:20260422T183143Z
SUMMARY:New Torani Flavor Giveaway at CoffeeFest Seattle
DESCRIPTION:Hi Everyone. We'll be giving away free 150 ml samples of a
 n unreleased Torani flavor to the first 50 people who stop by our boot
 h (#811) at CoffeeFest Seattle this weekend. The new flavor doesn't de
 but for another month, and we wanted to give coffee retailers and bari
 stas the first taste. We haven't even told our distributors about it y
 et.\n\nBTW...it's nothing crazy like Bacon this time, so don't be alar
 med. The prototype bottle on my desk has quickly become one of my pers
 onal favorites for lattes, and I'd love to hear what you think. Here's
  a hint, I have mixed it with bacon and it tasted like breakfast...\n\
 nJust stop by and say you want the free sample mentioned on Barista Ex
 change. Anyone working at the booth should be able to help you, though
  I won't be there.\n\nFor more information visit https://www.baristaex
 change.com/events/new-torani-flavor-giveaway-at
DTSTART;TZID=America/Los_Angeles:20101029T180000
DTEND;TZID=America/Los_Angeles:20101031T190000
CATEGORIES:secret, sample, giveaway
LOCATION:Booth 811, CoffeeFest Seattle - Washington State Convention &
  Trade Center
WEBSITE:
URL:
CONTACT:
ORGANIZER;CN="Andrea Ramirez":https://www.baristaexchange.com/profile/
 AndreaRamirez
ATTACH;FMTTYPE="image/jpeg":
ATTENDEE;ROLE=REQ-PARTICIPANT;PARTSTAT=ACCEPTED;RSVP=TRUE;CN="Andrea R
 amirez":https://www.baristaexchange.com/profile/AndreaRamirez
END:VEVENT
END:VCALENDAR
