BEGIN:VCALENDAR
PRODID:NingEventWidget-v1
VERSION:2.0
METHOD:PUBLISH
BEGIN:VTIMEZONE
TZID:America/Los_Angeles
X-LIC-LOCATION:America/Los_Angeles
BEGIN:DAYLIGHT
TZOFFSETFROM:-0800
TZOFFSETTO:-0700
TZNAME:PDT
DTSTART:19700308T020000
RRULE:FREQ=YEARLY;BYMONTH=3;BYDAY=2SU
END:DAYLIGHT
BEGIN:STANDARD
TZOFFSETFROM:-0700
TZOFFSETTO:-0800
TZNAME:PST
DTSTART:19701101T020000
RRULE:FREQ=YEARLY;BYMONTH=11;BYDAY=1SU
END:STANDARD
END:VTIMEZONE
BEGIN:VEVENT
UID:1688216:Event:631598
DTSTAMP:20260423T183342Z
SUMMARY:Need a Barista
DESCRIPTION:I work at a Stumptown wholesale account cafe in Brooklyn. 
 We are looking for a full time barista. Some one who knows their shit.
  Some one who loves Stumptown/good coffee.\n\nCome drop off your resum
 e and say Grace sent you.\n\nSecond Stop Cafe, Lorimer and Ainslie. Ri
 ght off the Lorimer 'L' and Metropolitan 'G'\n\nFor more information v
 isit https://www.baristaexchange.com/events/need-a-barista
DTSTART;TZID=America/Los_Angeles:20090923T180000
DTEND;TZID=America/Los_Angeles:20090930T220000
CATEGORIES:hiring
LOCATION:Second Stop Cafe
WEBSITE:
URL:
CONTACT:
ORGANIZER;CN=Grace:https://www.baristaexchange.com/profile/Grace
ATTACH;FMTTYPE="image/jpeg":
ATTENDEE;ROLE=REQ-PARTICIPANT;PARTSTAT=ACCEPTED;RSVP=TRUE;CN=Grace:htt
 ps://www.baristaexchange.com/profile/Grace
END:VEVENT
END:VCALENDAR
