BEGIN:VCALENDAR
PRODID:NingEventWidget-v1
VERSION:2.0
METHOD:PUBLISH
BEGIN:VTIMEZONE
TZID:America/Los_Angeles
X-LIC-LOCATION:America/Los_Angeles
BEGIN:DAYLIGHT
TZOFFSETFROM:-0800
TZOFFSETTO:-0700
TZNAME:PDT
DTSTART:19700308T020000
RRULE:FREQ=YEARLY;BYMONTH=3;BYDAY=2SU
END:DAYLIGHT
BEGIN:STANDARD
TZOFFSETFROM:-0700
TZOFFSETTO:-0800
TZNAME:PST
DTSTART:19701101T020000
RRULE:FREQ=YEARLY;BYMONTH=11;BYDAY=1SU
END:STANDARD
END:VTIMEZONE
BEGIN:VEVENT
UID:1688216:Event:969864
DTSTAMP:20260421T212604Z
SUMMARY:National Coffee Break
DESCRIPTION:As part of their Centennial Anniversary in 2011, the Natio
 nal Coffee Association of USA is calling for a National Coffee Break o
 n Thursday, January 20, 2011. The NCA is asking industry members to pa
 rticipate through customer promotions and activities and for consumers
  to invite their friends and family to take a break from their day to 
 bond over a cup of coffee. Go to nationalcoffeebreak.org for more info
 rmation, follow Ntnlcoffeebreak on Twitter or like NationalCoffeeBreak
  on Facebook.\n\nFor more information visit https://www.baristaexchang
 e.com/events/national-coffee-break
DTSTART;TZID=America/Los_Angeles:20110120T000000
DTEND;TZID=America/Los_Angeles:20110120T235900
CATEGORIES:national, holiday
LOCATION:United States
WEBSITE:http://www.nationalcoffeebreak.org
URL:http://www.nationalcoffeebreak.org
CONTACT:
ORGANIZER;CN="Kevin Sniffen":https://www.baristaexchange.com/profile/K
 evinSniffen
ATTACH;FMTTYPE="image/jpeg":
ATTENDEE;ROLE=REQ-PARTICIPANT;PARTSTAT=ACCEPTED;RSVP=TRUE;CN="Geoffrey
  Carroll":https://www.baristaexchange.com/profile/GeoffreyTCarroll
ATTENDEE;ROLE=REQ-PARTICIPANT;PARTSTAT=ACCEPTED;RSVP=TRUE;CN="Ashley N
  Ruby":https://www.baristaexchange.com/profile/AshleyNRuby
ATTENDEE;ROLE=REQ-PARTICIPANT;PARTSTAT=ACCEPTED;RSVP=TRUE;CN="Kevin Sn
 iffen":https://www.baristaexchange.com/profile/KevinSniffen
END:VEVENT
END:VCALENDAR
