BEGIN:VCALENDAR
PRODID:NingEventWidget-v1
VERSION:2.0
METHOD:PUBLISH
BEGIN:VTIMEZONE
TZID:America/Los_Angeles
X-LIC-LOCATION:America/Los_Angeles
BEGIN:DAYLIGHT
TZOFFSETFROM:-0800
TZOFFSETTO:-0700
TZNAME:PDT
DTSTART:19700308T020000
RRULE:FREQ=YEARLY;BYMONTH=3;BYDAY=2SU
END:DAYLIGHT
BEGIN:STANDARD
TZOFFSETFROM:-0700
TZOFFSETTO:-0800
TZNAME:PST
DTSTART:19701101T020000
RRULE:FREQ=YEARLY;BYMONTH=11;BYDAY=1SU
END:STANDARD
END:VTIMEZONE
BEGIN:VEVENT
UID:1688216:Event:608584
DTSTAMP:20260421T113824Z
SUMMARY:MWRBC 2009-10
DESCRIPTION:Come see some of the nation's finest baristas compete! Vis
 it kaldiscoffee.com for information on competing, volunteering, or jud
 ging.\n\nFor more information visit https://www.baristaexchange.com/ev
 ents/mwrbc-200910
DTSTART;TZID=America/Los_Angeles:20091030T000000
DTEND;TZID=America/Los_Angeles:20091101T235900
CATEGORIES:midwest, regional, barista, competition
LOCATION:Soulard Preservation Hall
WEBSITE:http://kaldiscoffee.com
URL:http://kaldiscoffee.com
CONTACT:(888) 89coffee
ORGANIZER:Kaldi's Coffee
ATTACH;FMTTYPE="image/jpeg":
ATTENDEE;ROLE=REQ-PARTICIPANT;PARTSTAT=ACCEPTED;RSVP=TRUE;CN="Joe Marr
 occo":https://www.baristaexchange.com/profile/JoeMarrocco
ATTENDEE;ROLE=REQ-PARTICIPANT;PARTSTAT=ACCEPTED;RSVP=TRUE;CN="Josh Fer
 guson":https://www.baristaexchange.com/profile/JoshFerguson
ATTENDEE;ROLE=REQ-PARTICIPANT;PARTSTAT=TENTATIVE;RSVP=TRUE;CN="Kasey K
 limes":https://www.baristaexchange.com/profile/KaseyKlimes
END:VEVENT
END:VCALENDAR
