BEGIN:VCALENDAR
PRODID:NingEventWidget-v1
VERSION:2.0
METHOD:PUBLISH
BEGIN:VTIMEZONE
TZID:America/Los_Angeles
X-LIC-LOCATION:America/Los_Angeles
BEGIN:DAYLIGHT
TZOFFSETFROM:-0800
TZOFFSETTO:-0700
TZNAME:PDT
DTSTART:19700308T020000
RRULE:FREQ=YEARLY;BYMONTH=3;BYDAY=2SU
END:DAYLIGHT
BEGIN:STANDARD
TZOFFSETFROM:-0700
TZOFFSETTO:-0800
TZNAME:PST
DTSTART:19701101T020000
RRULE:FREQ=YEARLY;BYMONTH=11;BYDAY=1SU
END:STANDARD
END:VTIMEZONE
BEGIN:VEVENT
UID:1688216:Event:576018
DTSTAMP:20260423T005617Z
SUMMARY:Minneapolis / St Paul Barista Jam
DESCRIPTION:Check website for details. http://mspbaristajam.com\n\nFor
  more information visit https://www.baristaexchange.com/events/minneap
 olis-st-paul-barista
DTSTART;TZID=America/Los_Angeles:20090829T100000
DTEND;TZID=America/Los_Angeles:20090829T220000
CATEGORIES:barista, jam
LOCATION:Cafe Imports
WEBSITE:http://mspbaristajam.com
URL:http://mspbaristajam.com
CONTACT:
ORGANIZER;CN="Piero Cristiani":https://www.baristaexchange.com/profile
 /PieroCristiani
ATTACH;FMTTYPE="image/jpeg":
ATTENDEE;ROLE=REQ-PARTICIPANT;PARTSTAT=ACCEPTED;RSVP=TRUE;CN="William 
 Fendler":https://www.baristaexchange.com/profile/WilliamFendler
ATTENDEE;ROLE=REQ-PARTICIPANT;PARTSTAT=ACCEPTED;RSVP=TRUE;CN="Justin H
 olinka":https://www.baristaexchange.com/profile/JustinHolinka
ATTENDEE;ROLE=REQ-PARTICIPANT;PARTSTAT=ACCEPTED;RSVP=TRUE;CN=keith:htt
 ps://www.baristaexchange.com/profile/keith
ATTENDEE;ROLE=REQ-PARTICIPANT;PARTSTAT=ACCEPTED;RSVP=TRUE;CN="Piero Cr
 istiani":https://www.baristaexchange.com/profile/PieroCristiani
END:VEVENT
END:VCALENDAR
