BEGIN:VCALENDAR
PRODID:NingEventWidget-v1
VERSION:2.0
METHOD:PUBLISH
BEGIN:VTIMEZONE
TZID:America/Los_Angeles
X-LIC-LOCATION:America/Los_Angeles
BEGIN:DAYLIGHT
TZOFFSETFROM:-0800
TZOFFSETTO:-0700
TZNAME:PDT
DTSTART:19700308T020000
RRULE:FREQ=YEARLY;BYMONTH=3;BYDAY=2SU
END:DAYLIGHT
BEGIN:STANDARD
TZOFFSETFROM:-0700
TZOFFSETTO:-0800
TZNAME:PST
DTSTART:19701101T020000
RRULE:FREQ=YEARLY;BYMONTH=11;BYDAY=1SU
END:STANDARD
END:VTIMEZONE
BEGIN:VEVENT
UID:1688216:Event:662927
DTSTAMP:20260421T131231Z
SUMMARY:Milwaukee vs. Portland Throwdown and Halloween Barista Jam!
DESCRIPTION:Milwaukee (2-0) vs. Portland (0-0) Latte Art Throwdown\nan
 d\nRoast Coffee Company Halloween Barista Jam\n\nFriday, October 30, R
 oast Coffee Company will play host to Milwaukee's third City-to-City T
 hrowdown; this time against Portland. On top of the event, we will be 
 having a Barista Jam in the form of a cupping and alternative brew sta
 tions set up throughout the store (i.e. french press, chemex, siphon, 
 and pour over). We are very fortunate to have six coffee sponsors for 
 the event and Barista Magazine sending over some goodies.\n\nCoffees i
 nclude:\nAlterra Coffee Roasters\nAnodyne Coffee Roasting Co.\nCounter
  Culture Coffee\nOlympia Coffee Roasters\nMetropolis Coffee Roasters\n
 and our competitor, Portland's own,\nStumptown Coffee Roasters\n\nThe 
 cupping and brew stations will begin at or around 5pm and the pre-lim 
 to the throwdown will be at 6pm. If you intend on trying out for the e
 vent, please be on time!\n\nLastly, being that this is a Halloween the
 med event we are asking/implementing a, \"NO COSTUME, NO POUR\" rule.\
 n\nThis is the place to be on the 30th for some amazing coffees and wh
 at is guaranteed to be one of the most competitive throwdown's to date
 .\n\nLooking forward to seeing everyone!\n\nFor more information visit
  https://www.baristaexchange.com/events/milwaukee-vs-portland
DTSTART;TZID=America/Los_Angeles:20091030T170000
DTEND;TZID=America/Los_Angeles:20091030T230000
CATEGORIES:barista, jam, "/", city-to-city, throwdown
LOCATION:Roast Coffee Company
WEBSITE:http://www.roastcoffeecompany.com
URL:http://www.roastcoffeecompany.com
CONTACT:(414)-801-2913
ORGANIZER:Brett Felchner
ATTACH;FMTTYPE="image/jpeg":http://storage.ning.com/topology/rest/1.0/
 file/get/91912960?profile=original
ATTENDEE;ROLE=REQ-PARTICIPANT;PARTSTAT=ACCEPTED;RSVP=TRUE;CN="Anodyne 
 Coffee Roasting Co.":https://www.baristaexchange.com/profile/AnodyneCo
 ffeeRoastingCo
ATTENDEE;ROLE=REQ-PARTICIPANT;PARTSTAT=ACCEPTED;RSVP=TRUE;CN="brett fe
 lchner":https://www.baristaexchange.com/profile/BrettF
END:VEVENT
END:VCALENDAR
