BEGIN:VCALENDAR
PRODID:NingEventWidget-v1
VERSION:2.0
METHOD:PUBLISH
BEGIN:VTIMEZONE
TZID:America/Los_Angeles
X-LIC-LOCATION:America/Los_Angeles
BEGIN:DAYLIGHT
TZOFFSETFROM:-0800
TZOFFSETTO:-0700
TZNAME:PDT
DTSTART:19700308T020000
RRULE:FREQ=YEARLY;BYMONTH=3;BYDAY=2SU
END:DAYLIGHT
BEGIN:STANDARD
TZOFFSETFROM:-0700
TZOFFSETTO:-0800
TZNAME:PST
DTSTART:19701101T020000
RRULE:FREQ=YEARLY;BYMONTH=11;BYDAY=1SU
END:STANDARD
END:VTIMEZONE
BEGIN:VEVENT
UID:1688216:Event:870665
DTSTAMP:20260424T185416Z
SUMMARY:Milwaukee Barista Jam - Friday June 25th
DESCRIPTION:This Friday, June 25th, is the Milwaukee Barista Jam, host
 ed by Roast Coffee Company. There is a full schedule, packed with some
  pretty amazing coffee and fun. Coffee will be arriving from around th
 e country from some of coffee’s most progressive roasters. On the ta
 ble, we will have coffees from:\n\nAnodyne Coffee Roasting Co., Barefo
 ot Coffee Roasters, Four Barrel Coffee, MadCap Coffee, Paradise Coffee
  Roasters, PT’s Coffee Roasting Co., Rishi Tea, and Wrecking Ball Co
 ffee Roasters.\n\nThere will be lots to play with…we will have an al
 ternative brew bar set up with siphons, French presses, Auro presses, 
 Chemexes, Harios, pour overs, and the coolest, the Bunn Trifecta. Addi
 tionally, we will be raffling off a year subscription to Barista Magaz
 ine and a year membership to the Barista Guild of America.\n\nFinally,
  there will be a Barista Throwdown! Action will be a little different 
 then in past events…we’ll be taking a page out of Octane’s playb
 ook. The Throwdown will be team oriented, not just individual pours. Y
 ou’ll work together with your team to win!\n\nSo come join us Friday
  stating around 5pm. We’ll be jamming well into the evening. Any and
  all are welcome to attend so we hope to see you there!\n\nFor more in
 formation visit https://www.baristaexchange.com/events/milwaukee-baris
 ta-jam-friday
DTSTART;TZID=America/Los_Angeles:20100625T170000
DTEND;TZID=America/Los_Angeles:20100625T234500
CATEGORIES:barista, "jam!"
LOCATION:Roast Coffee Company
WEBSITE:http://maps.google.com/maps?client=safari&rls=en&q=2132+E+locu
 st+st&oe=UTF-8&um=1&ie=UTF-8&hq=&hnear=2132+E+Locust+St,+Milwaukee,+WI
 +53211&gl=us&ei=gosfTJunJcGC8gbcmIjODA&sa=X&oi=geocode_result&ct=title
 &resnum=1&ved=0CBcQ8gEwAA
URL:http://maps.google.com/maps?client=safari&rls=en&q=2132+E+locust+s
 t&oe=UTF-8&um=1&ie=UTF-8&hq=&hnear=2132+E+Locust+St,+Milwaukee,+WI+532
 11&gl=us&ei=gosfTJunJcGC8gbcmIjODA&sa=X&oi=geocode_result&ct=title&res
 num=1&ved=0CBcQ8gEwAA
CONTACT:414-963-6363
ORGANIZER;CN="Ryan Mason":https://www.baristaexchange.com/profile/Ryan
 Mason
ATTACH;FMTTYPE="image/jpeg":
ATTENDEE;ROLE=REQ-PARTICIPANT;PARTSTAT=ACCEPTED;RSVP=TRUE;CN=Jaime:htt
 ps://www.baristaexchange.com/profile/Jaime
ATTENDEE;ROLE=REQ-PARTICIPANT;PARTSTAT=ACCEPTED;RSVP=TRUE;CN="Steve Ke
 ssler":https://www.baristaexchange.com/profile/SteveKessler
ATTENDEE;ROLE=REQ-PARTICIPANT;PARTSTAT=ACCEPTED;RSVP=TRUE;CN="Ryan Mas
 on":https://www.baristaexchange.com/profile/RyanMason
END:VEVENT
END:VCALENDAR
