BEGIN:VCALENDAR
PRODID:NingEventWidget-v1
VERSION:2.0
METHOD:PUBLISH
BEGIN:VTIMEZONE
TZID:America/Los_Angeles
X-LIC-LOCATION:America/Los_Angeles
BEGIN:DAYLIGHT
TZOFFSETFROM:-0800
TZOFFSETTO:-0700
TZNAME:PDT
DTSTART:19700308T020000
RRULE:FREQ=YEARLY;BYMONTH=3;BYDAY=2SU
END:DAYLIGHT
BEGIN:STANDARD
TZOFFSETFROM:-0700
TZOFFSETTO:-0800
TZNAME:PST
DTSTART:19701101T020000
RRULE:FREQ=YEARLY;BYMONTH=11;BYDAY=1SU
END:STANDARD
END:VTIMEZONE
BEGIN:VEVENT
UID:1688216:Event:646003
DTSTAMP:20260421T114117Z
SUMMARY:Midwest Regional Barista Competition
DESCRIPTION:St. Louis, MO | October 29 – Nov 1, 2009\n\nHosted by Ka
 ldi's Coffee\nHeld at Soulard Preservation Hall\n\nA reminder that com
 petitors placing 2nd thru 6th place at the Regional Competition will b
 e offered a spot in the preliminary round of the 2010 USBC in Anaheim.
  The 1st place winner of the regional competition will be granted a po
 sition in the Semi-Finals Round of the USBC!\n\nREGISTER\n\nFor more i
 nformation visit https://www.baristaexchange.com/events/midwest-region
 al-barista-1
DTSTART;TZID=America/Los_Angeles:20091029T000000
DTEND;TZID=America/Los_Angeles:20091101T235900
CATEGORIES:regional, barista, competition
LOCATION:Soulard Preservation Hall
WEBSITE:http://www.scaa.org
URL:http://www.scaa.org
CONTACT:
ORGANIZER:SCAA & Kaldi's Coffee
ATTACH;FMTTYPE="image/jpeg":http://storage.ning.com/topology/rest/1.0/
 file/get/91911954?profile=original
ATTENDEE;ROLE=REQ-PARTICIPANT;PARTSTAT=ACCEPTED;RSVP=TRUE;CN="Tara She
 nson":https://www.baristaexchange.com/profile/TaraShenson
END:VEVENT
END:VCALENDAR
