BEGIN:VCALENDAR
PRODID:NingEventWidget-v1
VERSION:2.0
METHOD:PUBLISH
BEGIN:VTIMEZONE
TZID:America/Los_Angeles
X-LIC-LOCATION:America/Los_Angeles
BEGIN:DAYLIGHT
TZOFFSETFROM:-0800
TZOFFSETTO:-0700
TZNAME:PDT
DTSTART:19700308T020000
RRULE:FREQ=YEARLY;BYMONTH=3;BYDAY=2SU
END:DAYLIGHT
BEGIN:STANDARD
TZOFFSETFROM:-0700
TZOFFSETTO:-0800
TZNAME:PST
DTSTART:19701101T020000
RRULE:FREQ=YEARLY;BYMONTH=11;BYDAY=1SU
END:STANDARD
END:VTIMEZONE
BEGIN:VEVENT
UID:1688216:Event:614594
DTSTAMP:20260423T102803Z
SUMMARY:Micro-lot Cupping in NYC: El Salvador!
DESCRIPTION:Dear Barista Exchangers!\n\nI'd like to invite you to a cu
 pping of some high-quality micro-lot coffees in New York City. Recentl
 y, at the Northeast Roasters Retreat, coffee farmer and industry exper
 t Graciano Cruz of Panama brought some fantastic, unique small-lot cof
 fees from El Salvador. I led a cupping that went over very well with t
 he folks who were able to make it to Vermont for the event.\n\nSince t
 hen I have been looking for a venue to get more exposure for these uni
 que coffees.\n\nI thought you would be interested to know that Gracian
 o Cruz is bringing more samples of those micro-lot El Salvadors we cup
 ped, up from Central America, this time to New York City.\n\nI'm hosti
 ng a cupping at Think Coffee's Manhattan lab, on Wednesday, September 
 16th, at 11:30 am. I'd love for you to attend. The coffees on the tabl
 e will be similar in quality to the ones we tried in Vermont, with mor
 e varied flavor profiles. Bourbons, Pacamaras, and Bourbon-Pacas blend
 s; varied processing, too. Graciano will also be presenting some dynam
 ite A/V material on these producers and what we can expect from them i
 n the 2009-10 harvest.\n\nThink Coffee is at 248 Mercer Street, betwee
 n 3rd and 4th Avenues in downtown Manhattan. Lots of great restaurants
  and sights to see in that area if you want to make a day of it. Just 
 RSVP to me at danielh@bootcoffee.\n\nPlease also feel free to spread t
 he word to any other quality-oriented roasters and coffee people and t
 ell them to drop me a line if they feel like coming.\n\nHope to see yo
 u there!\n\nYours truly,\nDaniel Humphries\n\nFor more information vis
 it https://www.baristaexchange.com/events/microlot-cupping-in-nyc-el
DTSTART;TZID=America/Los_Angeles:20090916T113000
DTEND;TZID=America/Los_Angeles:20090916T130000
CATEGORIES:cupping
LOCATION:New York City Think Coffee
WEBSITE:http://www.thinkcoffeenyc.com/calendar/
URL:http://www.thinkcoffeenyc.com/calendar/
CONTACT:718-614-7969
ORGANIZER;CN="Daniel Humphries":https://www.baristaexchange.com/profil
 e/DanielHumphries
ATTACH;FMTTYPE="image/jpeg":http://storage.ning.com/topology/rest/1.0/
 file/get/91910560?profile=original
ATTENDEE;ROLE=REQ-PARTICIPANT;PARTSTAT=ACCEPTED;RSVP=TRUE;CN="NDOKE EL
 VIS":https://www.baristaexchange.com/profile/NDOKEELVIS
ATTENDEE;ROLE=REQ-PARTICIPANT;PARTSTAT=ACCEPTED;RSVP=TRUE;CN="Daniel H
 umphries":https://www.baristaexchange.com/profile/DanielHumphries
END:VEVENT
END:VCALENDAR
