BEGIN:VCALENDAR
PRODID:NingEventWidget-v1
VERSION:2.0
METHOD:PUBLISH
BEGIN:VTIMEZONE
TZID:America/Los_Angeles
X-LIC-LOCATION:America/Los_Angeles
BEGIN:DAYLIGHT
TZOFFSETFROM:-0800
TZOFFSETTO:-0700
TZNAME:PDT
DTSTART:19700308T020000
RRULE:FREQ=YEARLY;BYMONTH=3;BYDAY=2SU
END:DAYLIGHT
BEGIN:STANDARD
TZOFFSETFROM:-0700
TZOFFSETTO:-0800
TZNAME:PST
DTSTART:19701101T020000
RRULE:FREQ=YEARLY;BYMONTH=11;BYDAY=1SU
END:STANDARD
END:VTIMEZONE
BEGIN:VEVENT
UID:1688216:Event:682374
DTSTAMP:20260421T195633Z
SUMMARY:Meet the Author
DESCRIPTION:Meet the author of Driven to Espresso in Seattle, at the N
 orthgate Mall Barnes & Noble. Book signing and casual discussion about
  the drive-through coffee evolution.\n\nFor more information visit htt
 ps://www.baristaexchange.com/events/meet-the-author
DTSTART;TZID=America/Los_Angeles:20091112T150000
DTEND;TZID=America/Los_Angeles:20091112T180000
CATEGORIES:book, signing
LOCATION:Barnes & Noble at Northgate Mall
WEBSITE:http://maps.google.com/maps?f=q&source=s_q&hl=en&geocode=&q=Ba
 rnes+%26+Noble&sll=47.708408,-122.325779&sspn=0.002621,0.006786&ie=UTF
 8&radius=0.16&rq=1&ev=zi&hq=Barnes+&%20Noble=&hnear=&ll=47.708408,-122
 .325779&spn=0.002621,0.006786&t=h&z=18&iwloc=A&cid=1811117681646280641
URL:http://maps.google.com/maps?f=q&source=s_q&hl=en&geocode=&q=Barnes
 +%26+Noble&sll=47.708408,-122.325779&sspn=0.002621,0.006786&ie=UTF8&ra
 dius=0.16&rq=1&ev=zi&hq=Barnes+&%20Noble=&hnear=&ll=47.708408,-122.325
 779&spn=0.002621,0.006786&t=h&z=18&iwloc=A&cid=1811117681646280641
CONTACT:206-465-9701
ORGANIZER;CN="Ray Weisgerber":https://www.baristaexchange.com/profile/
 RayWeisgerber
ATTACH;FMTTYPE="image/jpeg":http://storage.ning.com/topology/rest/1.0/
 file/get/91913200?profile=original
ATTENDEE;ROLE=REQ-PARTICIPANT;PARTSTAT=ACCEPTED;RSVP=TRUE;CN="Ray Weis
 gerber":https://www.baristaexchange.com/profile/RayWeisgerber
END:VEVENT
END:VCALENDAR
