BEGIN:VCALENDAR
PRODID:NingEventWidget-v1
VERSION:2.0
METHOD:PUBLISH
BEGIN:VTIMEZONE
TZID:America/Los_Angeles
X-LIC-LOCATION:America/Los_Angeles
BEGIN:DAYLIGHT
TZOFFSETFROM:-0800
TZOFFSETTO:-0700
TZNAME:PDT
DTSTART:19700308T020000
RRULE:FREQ=YEARLY;BYMONTH=3;BYDAY=2SU
END:DAYLIGHT
BEGIN:STANDARD
TZOFFSETFROM:-0700
TZOFFSETTO:-0800
TZNAME:PST
DTSTART:19701101T020000
RRULE:FREQ=YEARLY;BYMONTH=11;BYDAY=1SU
END:STANDARD
END:VTIMEZONE
BEGIN:VEVENT
UID:1688216:Event:934644
DTSTAMP:20260423T015815Z
SUMMARY:Manual Brewing Workshop
DESCRIPTION:Brown is hosting a workshop focusing on manual brewing by 
 the cup, which continues to find an ever-wider audience. This is a fre
 e and open workshop for serious home consumers as well as coffee profe
 ssionals.\n\nThe goals for this gathering are simple:\n\n-To continue 
 growing the coffee community in Texas\n\n-To provide some outlines of 
 popular manual brewing devices\n\n-To help level-set baristas with bes
 t practices around manual brewing\n\n-To introduce a game-changing dev
 ice for the industry that's soon to be on the market: the Luminaire Br
 avo-1\n\nHope you can make it out for a fun evening with great coffee,
  great coffee people and some of the latest and greatest coffee equipm
 ent around.\n\nFor more information visit https://www.baristaexchange.
 com/events/manual-brewing-workshop
DTSTART;TZID=America/Los_Angeles:20101023T180000
DTEND;TZID=America/Los_Angeles:20101023T210000
CATEGORIES:workshop
LOCATION:The Brown Coffee Co
WEBSITE:http://maps.google.com/maps?f=q&source=s_q&hl=en&geocode=&q=Th
 e+Brown+Coffee+Co.,+San+Antonio,+TX&sll=37.0625,-95.677068&sspn=49.310
 476,79.013672&ie=UTF8&hq=The+Brown+Coffee+Co.,&hnear=San+Antonio,+Bexa
 r,+Texas&z=13&iwloc=A
URL:http://maps.google.com/maps?f=q&source=s_q&hl=en&geocode=&q=The+Br
 own+Coffee+Co.,+San+Antonio,+TX&sll=37.0625,-95.677068&sspn=49.310476,
 79.013672&ie=UTF8&hq=The+Brown+Coffee+Co.,&hnear=San+Antonio,+Bexar,+T
 exas&z=13&iwloc=A
CONTACT:
ORGANIZER;CN="Aaron Blanco":https://www.baristaexchange.com/profile/Aa
 ronBlanco
ATTACH;FMTTYPE="image/jpeg":http://storage.ning.com/topology/rest/1.0/
 file/get/91919788?profile=original
ATTENDEE;ROLE=REQ-PARTICIPANT;PARTSTAT=ACCEPTED;RSVP=TRUE;CN="stephen 
 j brown":https://www.baristaexchange.com/profile/stephenjbrown
ATTENDEE;ROLE=REQ-PARTICIPANT;PARTSTAT=ACCEPTED;RSVP=TRUE;CN="Jeremy P
 errine":https://www.baristaexchange.com/profile/JeremiahPerrine
ATTENDEE;ROLE=REQ-PARTICIPANT;PARTSTAT=ACCEPTED;RSVP=TRUE;CN="Aaron Bl
 anco":https://www.baristaexchange.com/profile/AaronBlanco
ATTENDEE;ROLE=REQ-PARTICIPANT;PARTSTAT=TENTATIVE;RSVP=TRUE;CN="Charles
  Gonzalez":https://www.baristaexchange.com/profile/CharlesGonzalez
ATTENDEE;ROLE=REQ-PARTICIPANT;PARTSTAT=TENTATIVE;RSVP=TRUE;CN="Jason H
 aeger":https://www.baristaexchange.com/profile/JasonHaeger
END:VEVENT
END:VCALENDAR
