BEGIN:VCALENDAR
PRODID:NingEventWidget-v1
VERSION:2.0
METHOD:PUBLISH
BEGIN:VTIMEZONE
TZID:America/Los_Angeles
X-LIC-LOCATION:America/Los_Angeles
BEGIN:DAYLIGHT
TZOFFSETFROM:-0800
TZOFFSETTO:-0700
TZNAME:PDT
DTSTART:19700308T020000
RRULE:FREQ=YEARLY;BYMONTH=3;BYDAY=2SU
END:DAYLIGHT
BEGIN:STANDARD
TZOFFSETFROM:-0700
TZOFFSETTO:-0800
TZNAME:PST
DTSTART:19701101T020000
RRULE:FREQ=YEARLY;BYMONTH=11;BYDAY=1SU
END:STANDARD
END:VTIMEZONE
BEGIN:VEVENT
UID:1688216:Event:863108
DTSTAMP:20260424T134550Z
SUMMARY:Manual Brewing Battle.
DESCRIPTION:One Coffee. Any Method. One Winner. Anybody's Game.\nThere
  will be one coffee.\nYou can brew with any device or dosing.\nThere w
 ill be one winner chosen from a panel of three judges on taste.\nAll a
 re welcome to battle it out. There will be cool prizes.\nCoffee will b
 e an African.\n\nPlans are that we all go out to eat afterwards, if po
 ssible.\n\nSponsed by Batdorf & Bronson, Barista Magazine, Espresso Pa
 rts NW,\n\nFor more information visit https://www.baristaexchange.com/
 events/manual-brewing-battle
DTSTART;TZID=America/Los_Angeles:20100620T180000
DTEND;TZID=America/Los_Angeles:20100620T200000
CATEGORIES:manual, brewing, "battle."
LOCATION:Batdorf & Bronson Coffee Roastery
WEBSITE:http://www.facebook.com/event.php?eid=128275640524245
URL:http://www.facebook.com/event.php?eid=128275640524245
CONTACT:(404)316-7022
ORGANIZER;CN="Jason Dominy":https://www.baristaexchange.com/profile/jd
 ominy
ATTACH;FMTTYPE="image/jpeg":http://storage.ning.com/topology/rest/1.0/
 file/get/91917999?profile=original
ATTENDEE;ROLE=REQ-PARTICIPANT;PARTSTAT=ACCEPTED;RSVP=TRUE;CN="Jason Do
 miny":https://www.baristaexchange.com/profile/jdominy
ATTENDEE;ROLE=REQ-PARTICIPANT;PARTSTAT=TENTATIVE;RSVP=TRUE;CN="jonatha
 n bonchak":https://www.baristaexchange.com/profile/jonathanbonchak
END:VEVENT
END:VCALENDAR
