BEGIN:VCALENDAR
PRODID:NingEventWidget-v1
VERSION:2.0
METHOD:PUBLISH
BEGIN:VTIMEZONE
TZID:America/Los_Angeles
X-LIC-LOCATION:America/Los_Angeles
BEGIN:DAYLIGHT
TZOFFSETFROM:-0800
TZOFFSETTO:-0700
TZNAME:PDT
DTSTART:19700308T020000
RRULE:FREQ=YEARLY;BYMONTH=3;BYDAY=2SU
END:DAYLIGHT
BEGIN:STANDARD
TZOFFSETFROM:-0700
TZOFFSETTO:-0800
TZNAME:PST
DTSTART:19701101T020000
RRULE:FREQ=YEARLY;BYMONTH=11;BYDAY=1SU
END:STANDARD
END:VTIMEZONE
BEGIN:VEVENT
UID:1688216:Event:895721
DTSTAMP:20260424T010315Z
SUMMARY:Manual Brewing Battle- Olympia
DESCRIPTION:Bring yourself and a friend to a battle for title of “be
 st brewer”. Cups of coffee will be judged by a panel of local foodie
 s and coffee professionals on it’s aroma, flavor and overall impress
 ion.\nTo compete, you may use the manual brewing method of your choice
  ( French press, Aeropress, Pourover, siphon).\n\nThis is a free event
  and the public is invited to attend.\n\nFor more information visit ht
 tps://www.baristaexchange.com/events/manual-brewing-battle-olympia
DTSTART;TZID=America/Los_Angeles:20100820T173000
DTEND;TZID=America/Los_Angeles:20100820T190000
CATEGORIES:get-together, fun, times, battle, royale
LOCATION:Batdorf & Bronson Coffee Roasters cupping lab
WEBSITE:
URL:
CONTACT:
ORGANIZER;CN="emily jackson":https://www.baristaexchange.com/profile/e
 milyjackson
ATTACH;FMTTYPE="image/jpeg":http://storage.ning.com/topology/rest/1.0/
 file/get/91918825?profile=original
ATTENDEE;ROLE=REQ-PARTICIPANT;PARTSTAT=ACCEPTED;RSVP=TRUE;CN="emily ja
 ckson":https://www.baristaexchange.com/profile/emilyjackson
END:VEVENT
END:VCALENDAR
