BEGIN:VCALENDAR
PRODID:NingEventWidget-v1
VERSION:2.0
METHOD:PUBLISH
BEGIN:VTIMEZONE
TZID:America/Los_Angeles
X-LIC-LOCATION:America/Los_Angeles
BEGIN:DAYLIGHT
TZOFFSETFROM:-0800
TZOFFSETTO:-0700
TZNAME:PDT
DTSTART:19700308T020000
RRULE:FREQ=YEARLY;BYMONTH=3;BYDAY=2SU
END:DAYLIGHT
BEGIN:STANDARD
TZOFFSETFROM:-0700
TZOFFSETTO:-0800
TZNAME:PST
DTSTART:19701101T020000
RRULE:FREQ=YEARLY;BYMONTH=11;BYDAY=1SU
END:STANDARD
END:VTIMEZONE
BEGIN:VEVENT
UID:1688216:Event:943343
DTSTAMP:20260423T001142Z
SUMMARY:Manual Brewing Battle- Atlanta.
DESCRIPTION:One Coffee. Any Method. One Winner. Anybody's Game.\nThere
  will be one coffee.\nYou can brew with any device or dosing.\nThere w
 ill be one winner chosen from a panel of three judges on taste.\nAll a
 re welcome to battle it out. There will be cool prizes.\n\nCoffee will
  be announced the night prior to the event.\n\nSpecial Guest Judge wil
 l be announced.\n\nPlans are that we all go out to eat afterwards, if 
 possible.\n\nSponsored by Batdorf & Bronson, Barista Magazine.\n\nFor 
 more information visit https://www.baristaexchange.com/events/manual-b
 rewing-battle-atlanta
DTSTART;TZID=America/Los_Angeles:20101024T180000
DTEND;TZID=America/Los_Angeles:20101024T203000
CATEGORIES:manual, brewing, "battle."
LOCATION:Batdorf & Bronson Coffee Roastery
WEBSITE:http://www.facebook.com/event.php?eid=160164027344511
URL:http://www.facebook.com/event.php?eid=160164027344511
CONTACT:(404)316-7022
ORGANIZER;CN="Jason Dominy":https://www.baristaexchange.com/profile/jd
 ominy
ATTACH;FMTTYPE="image/jpeg":http://storage.ning.com/topology/rest/1.0/
 file/get/91919970?profile=original
ATTENDEE;ROLE=REQ-PARTICIPANT;PARTSTAT=ACCEPTED;RSVP=TRUE;CN="David St
 ellwagen":https://www.baristaexchange.com/profile/DavidStellwagen
ATTENDEE;ROLE=REQ-PARTICIPANT;PARTSTAT=ACCEPTED;RSVP=TRUE;CN="Jason Do
 miny":https://www.baristaexchange.com/profile/jdominy
END:VEVENT
END:VCALENDAR
