BEGIN:VCALENDAR
PRODID:NingEventWidget-v1
VERSION:2.0
METHOD:PUBLISH
BEGIN:VTIMEZONE
TZID:America/Los_Angeles
X-LIC-LOCATION:America/Los_Angeles
BEGIN:DAYLIGHT
TZOFFSETFROM:-0800
TZOFFSETTO:-0700
TZNAME:PDT
DTSTART:19700308T020000
RRULE:FREQ=YEARLY;BYMONTH=3;BYDAY=2SU
END:DAYLIGHT
BEGIN:STANDARD
TZOFFSETFROM:-0700
TZOFFSETTO:-0800
TZNAME:PST
DTSTART:19701101T020000
RRULE:FREQ=YEARLY;BYMONTH=11;BYDAY=1SU
END:STANDARD
END:VTIMEZONE
BEGIN:VEVENT
UID:1688216:Event:958543
DTSTAMP:20260422T120314Z
SUMMARY:Manual Brewing Battle
DESCRIPTION:Batdorf's second Olympia Manual Brewing Battle will be hel
 d after-hours at our Espresso Bar, across the street from the Olympia 
 Farmer's Market.\n\n(UPDATE!) The Coffee: Olympia Coffee Roasters has 
 offered to supply their new Colombia Finca la Florida for the Battle!\
 n\nBrewing equipment, hot water, Ditting Grinder & coffee will be prov
 ided. Competitors are welcome to bring their own equipment if they wis
 h. A half-pound of whole beans will be available for each competitor t
 he week before the battle. Be sure to sign up in advance to secure you
 r coffee. Late entries are accepted, though the half-pound will not be
  available.\n\nJudges will do a blind tasting of the coffees, using a 
 simple scoresheet and discussion to choose the best cup.\n\nSnacks: ye
 s\n\nPrizes: for sure! $5 buy-in, winner takes all!\n\nContact Will Fr
 ith at Barista Exchange or willf@batdorf.com for details. Sign up by e
 mail, visit the Dancing Goats Espresso Bar or Olympia Coffee Roasters'
  Cherry Street Cafe. (signup necessary to secure coffee for practice, 
 but any participants welcome to join til the start of the event)\n\nFo
 r more information visit https://www.baristaexchange.com/events/manual
 -brewing-battle-1
DTSTART;TZID=America/Los_Angeles:20101119T180000
DTEND;TZID=America/Los_Angeles:20101119T200000
CATEGORIES:manual, brewing, "battle!"
LOCATION:Dancing Goats Espresso Bar
WEBSITE:http://www.batdorfcoffee.com
URL:http://www.batdorfcoffee.com
CONTACT:800-955-5282 ext 107
ORGANIZER;CN="will frith":https://www.baristaexchange.com/profile/frit
 h
ATTACH;FMTTYPE="image/jpeg":
ATTENDEE;ROLE=REQ-PARTICIPANT;PARTSTAT=ACCEPTED;RSVP=TRUE;CN="Jared Gu
 m":https://www.baristaexchange.com/profile/JaredGum
ATTENDEE;ROLE=REQ-PARTICIPANT;PARTSTAT=ACCEPTED;RSVP=TRUE;CN="Sara Lou
 ise":https://www.baristaexchange.com/profile/SaraLouise
ATTENDEE;ROLE=REQ-PARTICIPANT;PARTSTAT=ACCEPTED;RSVP=TRUE;CN=pandaman7
 3:https://www.baristaexchange.com/profile/pandaman73
ATTENDEE;ROLE=REQ-PARTICIPANT;PARTSTAT=ACCEPTED;RSVP=TRUE;CN="Mike Can
 non":https://www.baristaexchange.com/profile/MikeCannon
ATTENDEE;ROLE=REQ-PARTICIPANT;PARTSTAT=ACCEPTED;RSVP=TRUE;CN="will fri
 th":https://www.baristaexchange.com/profile/frith
ATTENDEE;ROLE=REQ-PARTICIPANT;PARTSTAT=TENTATIVE;RSVP=TRUE;CN="Marty G
  Curtis":https://www.baristaexchange.com/profile/MartyGCurtis
END:VEVENT
END:VCALENDAR
