BEGIN:VCALENDAR
PRODID:NingEventWidget-v1
VERSION:2.0
METHOD:PUBLISH
BEGIN:VTIMEZONE
TZID:America/Los_Angeles
X-LIC-LOCATION:America/Los_Angeles
BEGIN:DAYLIGHT
TZOFFSETFROM:-0800
TZOFFSETTO:-0700
TZNAME:PDT
DTSTART:19700308T020000
RRULE:FREQ=YEARLY;BYMONTH=3;BYDAY=2SU
END:DAYLIGHT
BEGIN:STANDARD
TZOFFSETFROM:-0700
TZOFFSETTO:-0800
TZNAME:PST
DTSTART:19701101T020000
RRULE:FREQ=YEARLY;BYMONTH=11;BYDAY=1SU
END:STANDARD
END:VTIMEZONE
BEGIN:VEVENT
UID:1688216:Event:391299
DTSTAMP:20260422T043908Z
SUMMARY:Make big money from home, no selling, no customer contact! EAS
 Y!
DESCRIPTION:Make big money from home, no selling, no customer contact!
  EASY!\n\nMAKE UP TO $300 OVER AND OVER\n\nI found a great way to make
  money working out of my own home. If you want to make extra money or 
 even be your own boss, I want to share this amazing opportunity with y
 ou - And you can get started as easily as I did - Anyone can do this a
 nd there's absolutely no reason you can't make money this way!\n\nCall
  and ask to hear our 9-minute audio that will\nexplain why YOU can't a
 fford to let this one pass you by!\n\nYou can either check out my webs
 ite and we can send you some further information\n\nFor more informati
 on visit https://www.baristaexchange.com/events/make-big-money-from-ho
 me-no
DTSTART;TZID=America/Los_Angeles:20090327T180000
DTEND;TZID=America/Los_Angeles:20090327T190000
CATEGORIES:how, to, make, money
LOCATION:USA
WEBSITE:
URL:
CONTACT:0972246567
ORGANIZER;CN="Tony Lee":https://www.baristaexchange.com/profile/TonyLe
 e
ATTACH;FMTTYPE="image/jpeg":
ATTENDEE;ROLE=REQ-PARTICIPANT;PARTSTAT=ACCEPTED;RSVP=TRUE;CN="Tony Lee
 ":https://www.baristaexchange.com/profile/TonyLee
END:VEVENT
END:VCALENDAR
