BEGIN:VCALENDAR
PRODID:NingEventWidget-v1
VERSION:2.0
METHOD:PUBLISH
BEGIN:VTIMEZONE
TZID:America/Los_Angeles
X-LIC-LOCATION:America/Los_Angeles
BEGIN:DAYLIGHT
TZOFFSETFROM:-0800
TZOFFSETTO:-0700
TZNAME:PDT
DTSTART:19700308T020000
RRULE:FREQ=YEARLY;BYMONTH=3;BYDAY=2SU
END:DAYLIGHT
BEGIN:STANDARD
TZOFFSETFROM:-0700
TZOFFSETTO:-0800
TZNAME:PST
DTSTART:19701101T020000
RRULE:FREQ=YEARLY;BYMONTH=11;BYDAY=1SU
END:STANDARD
END:VTIMEZONE
BEGIN:VEVENT
UID:1688216:Event:448249
DTSTAMP:20260421T102258Z
SUMMARY:Maccha art competition
DESCRIPTION:A good 'ole time to be had at Bon Amici's in Victoria this
  Thursday April the 30th.\nDefending Champ Mark from Bubby Rose will h
 ave his work cut out for him this year as the competition grows in siz
 e. There will be prizes drinks and fun.\nCome on down and show some su
 pport for the tea world!\n\nFor more information visit https://www.bar
 istaexchange.com/events/maccha-art-competition
DTSTART;TZID=America/Los_Angeles:20090430T180000
DTEND;TZID=America/Los_Angeles:20090430T210000
CATEGORIES:art, competition
LOCATION:Bon Amici's
WEBSITE:
URL:
CONTACT:
ORGANIZER:Jaga Silk
ATTACH;FMTTYPE="image/jpeg":
ATTENDEE;ROLE=REQ-PARTICIPANT;PARTSTAT=ACCEPTED;RSVP=TRUE;CN="Sam Jone
 s":https://www.baristaexchange.com/profile/SamJones
END:VEVENT
END:VCALENDAR
