BEGIN:VCALENDAR
PRODID:NingEventWidget-v1
VERSION:2.0
METHOD:PUBLISH
BEGIN:VTIMEZONE
TZID:America/Los_Angeles
X-LIC-LOCATION:America/Los_Angeles
BEGIN:DAYLIGHT
TZOFFSETFROM:-0800
TZOFFSETTO:-0700
TZNAME:PDT
DTSTART:19700308T020000
RRULE:FREQ=YEARLY;BYMONTH=3;BYDAY=2SU
END:DAYLIGHT
BEGIN:STANDARD
TZOFFSETFROM:-0700
TZOFFSETTO:-0800
TZNAME:PST
DTSTART:19701101T020000
RRULE:FREQ=YEARLY;BYMONTH=11;BYDAY=1SU
END:STANDARD
END:VTIMEZONE
BEGIN:VEVENT
UID:1688216:Event:517330
DTSTAMP:20260421T231342Z
SUMMARY:LRBC Coffee dork-out
DESCRIPTION:The Little Red Bike Cafe is hosting/sponsoring a general c
 offee gathering featuring our roaster Courier Coffee Roasters. We plan
  to be cupping a few roasts of Joel's from last week as well as playin
 g with a new espresso project. Some siphon action? Perhaps. All are we
 lcome...should be fun.\n\nFor more information visit https://www.baris
 taexchange.com/events/lrbc-coffee-dorkout
DTSTART;TZID=America/Los_Angeles:20090615T140000
DTEND;TZID=America/Los_Angeles:20090615T180000
CATEGORIES:jam
LOCATION:Little Red Bike Cafe
WEBSITE:http://www.littleredbikecafe.com/map.html
URL:http://www.littleredbikecafe.com/map.html
CONTACT:503-289-0120
ORGANIZER:LRBC and CCR
ATTACH;FMTTYPE="image/jpeg":http://storage.ning.com/topology/rest/1.0/
 file/get/91907770?profile=original
ATTENDEE;ROLE=REQ-PARTICIPANT;PARTSTAT=ACCEPTED;RSVP=TRUE;CN=Ray:https
 ://www.baristaexchange.com/profile/Ray
END:VEVENT
END:VCALENDAR
