BEGIN:VCALENDAR
PRODID:NingEventWidget-v1
VERSION:2.0
METHOD:PUBLISH
BEGIN:VTIMEZONE
TZID:America/Los_Angeles
X-LIC-LOCATION:America/Los_Angeles
BEGIN:DAYLIGHT
TZOFFSETFROM:-0800
TZOFFSETTO:-0700
TZNAME:PDT
DTSTART:19700308T020000
RRULE:FREQ=YEARLY;BYMONTH=3;BYDAY=2SU
END:DAYLIGHT
BEGIN:STANDARD
TZOFFSETFROM:-0700
TZOFFSETTO:-0800
TZNAME:PST
DTSTART:19701101T020000
RRULE:FREQ=YEARLY;BYMONTH=11;BYDAY=1SU
END:STANDARD
END:VTIMEZONE
BEGIN:VEVENT
UID:1688216:Event:429286
DTSTAMP:20260421T202213Z
SUMMARY:Live Stream of WBC in Seattle
DESCRIPTION:I don't know what's going on with everyone else,...but I'l
 l be streaming the WBC at my cafe, Mokas Cafe and Coffee Bar. We're wo
 rking on a couple things, so I'll be updating times, etc, etc as we go
  along. I'd love to get some people together to talk about coffee duri
 ng \"The Event.\" We'll have a grinder for some guest coffee. Let me k
 now if you're interested in bringing some coffee. I'd love to be able 
 to throw together a cupping or maybe even a makeshift jam. We'll be cl
 osed on Sunday, but I'll more than likely be there geeking out anyways
 . Come by but be sure to stay tuned here on BX for more info....\n\nFo
 r more information visit https://www.baristaexchange.com/events/live-s
 tream-of-wbc-in-seattle
DTSTART;TZID=America/Los_Angeles:20090416T000000
DTEND;TZID=America/Los_Angeles:20090419T235900
CATEGORIES:live, stream, of, "the event"
LOCATION:Mokas Cafe and Coffee Bar
WEBSITE:http://whynotcoffee.wordpress.com
URL:http://whynotcoffee.wordpress.com
CONTACT:209.576.5397
ORGANIZER;CN="Alex Negranza":https://www.baristaexchange.com/profile/A
 lexNegranza
ATTACH;FMTTYPE="image/jpeg":http://storage.ning.com/topology/rest/1.0/
 file/get/91906638?profile=original
ATTENDEE;ROLE=REQ-PARTICIPANT;PARTSTAT=ACCEPTED;RSVP=TRUE;CN="Alex Neg
 ranza":https://www.baristaexchange.com/profile/AlexNegranza
END:VEVENT
END:VCALENDAR
