BEGIN:VCALENDAR
PRODID:NingEventWidget-v1
VERSION:2.0
METHOD:PUBLISH
BEGIN:VTIMEZONE
TZID:America/Los_Angeles
X-LIC-LOCATION:America/Los_Angeles
BEGIN:DAYLIGHT
TZOFFSETFROM:-0800
TZOFFSETTO:-0700
TZNAME:PDT
DTSTART:19700308T020000
RRULE:FREQ=YEARLY;BYMONTH=3;BYDAY=2SU
END:DAYLIGHT
BEGIN:STANDARD
TZOFFSETFROM:-0700
TZOFFSETTO:-0800
TZNAME:PST
DTSTART:19701101T020000
RRULE:FREQ=YEARLY;BYMONTH=11;BYDAY=1SU
END:STANDARD
END:VTIMEZONE
BEGIN:VEVENT
UID:1688216:Event:500744
DTSTAMP:20260420T013149Z
SUMMARY:Latte Art Throwdown
DESCRIPTION:7pm Copa Vida Durham, NC\n\nFor more information visit htt
 ps://www.baristaexchange.com/events/latte-art-throwdown
DTSTART;TZID=America/Los_Angeles:20090625T190000
DTEND;TZID=America/Los_Angeles:20090625T210000
CATEGORIES:fun
LOCATION:Copa Vida Durham, NC
WEBSITE:
URL:
CONTACT:919-383-4900
ORGANIZER;CN="Lem Butler":https://www.baristaexchange.com/profile/LemB
 utler
ATTACH;FMTTYPE="image/jpeg":http://storage.ning.com/topology/rest/1.0/
 file/get/91907690?profile=original
ATTENDEE;ROLE=REQ-PARTICIPANT;PARTSTAT=ACCEPTED;RSVP=TRUE;CN="Nathan B
 rown":https://www.baristaexchange.com/profile/NathanBrown
ATTENDEE;ROLE=REQ-PARTICIPANT;PARTSTAT=ACCEPTED;RSVP=TRUE;CN="Bryan Du
 ggan":https://www.baristaexchange.com/profile/BryanDuggan
ATTENDEE;ROLE=REQ-PARTICIPANT;PARTSTAT=ACCEPTED;RSVP=TRUE;CN="Charlie 
 DeVico":https://www.baristaexchange.com/profile/CharlieDeVico
ATTENDEE;ROLE=REQ-PARTICIPANT;PARTSTAT=ACCEPTED;RSVP=TRUE;CN="Miles Mu
 rray":https://www.baristaexchange.com/profile/MilesMurray
ATTENDEE;ROLE=REQ-PARTICIPANT;PARTSTAT=ACCEPTED;RSVP=TRUE;CN="Lem Butl
 er":https://www.baristaexchange.com/profile/LemButler
ATTENDEE;ROLE=REQ-PARTICIPANT;PARTSTAT=TENTATIVE;RSVP=TRUE;CN="Daniel 
 C. Smith":https://www.baristaexchange.com/profile/DanielCSmith
ATTENDEE;ROLE=REQ-PARTICIPANT;PARTSTAT=TENTATIVE;RSVP=TRUE;CN="scott c
 onary":https://www.baristaexchange.com/profile/scott
ATTENDEE;ROLE=REQ-PARTICIPANT;PARTSTAT=TENTATIVE;RSVP=TRUE;CN="Jason D
 ominy":https://www.baristaexchange.com/profile/jdominy
END:VEVENT
END:VCALENDAR
