BEGIN:VCALENDAR
PRODID:NingEventWidget-v1
VERSION:2.0
METHOD:PUBLISH
BEGIN:VTIMEZONE
TZID:America/Los_Angeles
X-LIC-LOCATION:America/Los_Angeles
BEGIN:DAYLIGHT
TZOFFSETFROM:-0800
TZOFFSETTO:-0700
TZNAME:PDT
DTSTART:19700308T020000
RRULE:FREQ=YEARLY;BYMONTH=3;BYDAY=2SU
END:DAYLIGHT
BEGIN:STANDARD
TZOFFSETFROM:-0700
TZOFFSETTO:-0800
TZNAME:PST
DTSTART:19701101T020000
RRULE:FREQ=YEARLY;BYMONTH=11;BYDAY=1SU
END:STANDARD
END:VTIMEZONE
BEGIN:VEVENT
UID:1688216:Event:415605
DTSTAMP:20260421T081744Z
SUMMARY:Latte Art Throwdown - Nashville Style!
DESCRIPTION:Time to bring it to Nashville!\nCalling all Barista's in t
 he Nashville area. You wanted a Throwdown...here it is! Hosted by Ugly
  Mugs on Eastland we will be having a great night of mad coffee skills
  and a time to connect with the rest of your local coffee community.\n
 \nFor more information visit https://www.baristaexchange.com/events/la
 tte-art-throwdown-nashville
DTSTART;TZID=America/Los_Angeles:20090521T190000
DTEND;TZID=America/Los_Angeles:20090521T220000
CATEGORIES:latte, art, throwdown
LOCATION:Ugly Mugs
WEBSITE:http://www.uglymugsnashville.com/
URL:http://www.uglymugsnashville.com/
CONTACT:(615) 915-0675
ORGANIZER;CN="Rob Tuttle":https://www.baristaexchange.com/profile/RobT
 uttle
ATTACH;FMTTYPE="image/jpeg":http://storage.ning.com/topology/rest/1.0/
 file/get/91907039?profile=original
ATTENDEE;ROLE=REQ-PARTICIPANT;PARTSTAT=ACCEPTED;RSVP=TRUE;CN="Donald H
 arrell":https://www.baristaexchange.com/profile/DonaldHarrell
ATTENDEE;ROLE=REQ-PARTICIPANT;PARTSTAT=ACCEPTED;RSVP=TRUE;CN="Cody Sel
 lers":https://www.baristaexchange.com/profile/CodySellers
ATTENDEE;ROLE=REQ-PARTICIPANT;PARTSTAT=ACCEPTED;RSVP=TRUE;CN="Heath He
 nley":https://www.baristaexchange.com/profile/HeathHenley
ATTENDEE;ROLE=REQ-PARTICIPANT;PARTSTAT=ACCEPTED;RSVP=TRUE;CN="Everythi
 ng Coffee & Tea":https://www.baristaexchange.com/profile/EverythingCof
 feeTea
ATTENDEE;ROLE=REQ-PARTICIPANT;PARTSTAT=ACCEPTED;RSVP=TRUE;CN="Rob Tutt
 le":https://www.baristaexchange.com/profile/RobTuttle
ATTENDEE;ROLE=REQ-PARTICIPANT;PARTSTAT=TENTATIVE;RSVP=TRUE;CN="Matthew
  Gasaway":https://www.baristaexchange.com/profile/MatthewGasaway
ATTENDEE;ROLE=REQ-PARTICIPANT;PARTSTAT=TENTATIVE;RSVP=TRUE;CN="Todd Be
 avers":https://www.baristaexchange.com/profile/ToddBeavers
END:VEVENT
END:VCALENDAR
