BEGIN:VCALENDAR
PRODID:NingEventWidget-v1
VERSION:2.0
METHOD:PUBLISH
BEGIN:VTIMEZONE
TZID:America/Los_Angeles
X-LIC-LOCATION:America/Los_Angeles
BEGIN:DAYLIGHT
TZOFFSETFROM:-0800
TZOFFSETTO:-0700
TZNAME:PDT
DTSTART:19700308T020000
RRULE:FREQ=YEARLY;BYMONTH=3;BYDAY=2SU
END:DAYLIGHT
BEGIN:STANDARD
TZOFFSETFROM:-0700
TZOFFSETTO:-0800
TZNAME:PST
DTSTART:19701101T020000
RRULE:FREQ=YEARLY;BYMONTH=11;BYDAY=1SU
END:STANDARD
END:VTIMEZONE
BEGIN:VEVENT
UID:1688216:Event:653572
DTSTAMP:20260421T131203Z
SUMMARY:Latte Art Throwdown
DESCRIPTION:$5 to enter winner takes all. There will be second and thi
 rd place prizes. This event is free and open to the public. So tell al
 l your favorite baristas to come out and represent their coffee shop!\
 n\nFor more information visit https://www.baristaexchange.com/events/l
 atte-art-throwdown-2
DTSTART;TZID=America/Los_Angeles:20091029T190000
DTEND;TZID=America/Los_Angeles:20091029T210000
CATEGORIES:latte, art, competition
LOCATION:Copa Vida Coffee
WEBSITE:
URL:
CONTACT:919-383-4900
ORGANIZER;CN="Lem Butler":https://www.baristaexchange.com/profile/LemB
 utler
ATTACH;FMTTYPE="image/jpeg":
ATTENDEE;ROLE=REQ-PARTICIPANT;PARTSTAT=ACCEPTED;RSVP=TRUE;CN="Brian We
 bb":https://www.baristaexchange.com/profile/BrianWebb
ATTENDEE;ROLE=REQ-PARTICIPANT;PARTSTAT=ACCEPTED;RSVP=TRUE;CN="Lem Butl
 er":https://www.baristaexchange.com/profile/LemButler
END:VEVENT
END:VCALENDAR
