BEGIN:VCALENDAR
PRODID:NingEventWidget-v1
VERSION:2.0
METHOD:PUBLISH
BEGIN:VTIMEZONE
TZID:America/Los_Angeles
X-LIC-LOCATION:America/Los_Angeles
BEGIN:DAYLIGHT
TZOFFSETFROM:-0800
TZOFFSETTO:-0700
TZNAME:PDT
DTSTART:19700308T020000
RRULE:FREQ=YEARLY;BYMONTH=3;BYDAY=2SU
END:DAYLIGHT
BEGIN:STANDARD
TZOFFSETFROM:-0700
TZOFFSETTO:-0800
TZNAME:PST
DTSTART:19701101T020000
RRULE:FREQ=YEARLY;BYMONTH=11;BYDAY=1SU
END:STANDARD
END:VTIMEZONE
BEGIN:VEVENT
UID:1688216:Event:453955
DTSTAMP:20260421T231710Z
SUMMARY:La Marzocco Out of the Box
DESCRIPTION:the best machine in whole new world!\n\nFor more informati
 on visit https://www.baristaexchange.com/events/la-marzocco-out-of-the
 -box
DTSTART;TZID=America/Los_Angeles:20091023T000000
DTEND;TZID=America/Los_Angeles:20091027T235900
CATEGORIES:fair
LOCATION:Milano, Italia
WEBSITE:
URL:
CONTACT:
ORGANIZER:la marzocco
ATTACH;FMTTYPE="image/jpeg":
ATTENDEE;ROLE=REQ-PARTICIPANT;PARTSTAT=ACCEPTED;RSVP=TRUE;CN="nik oros
 i":https://www.baristaexchange.com/profile/nikorosi
ATTENDEE;ROLE=REQ-PARTICIPANT;PARTSTAT=TENTATIVE;RSVP=TRUE;CN="Larry B
 ourgeois":https://www.baristaexchange.com/profile/LarryBourgeois
END:VEVENT
END:VCALENDAR
