BEGIN:VCALENDAR
PRODID:NingEventWidget-v1
VERSION:2.0
METHOD:PUBLISH
BEGIN:VTIMEZONE
TZID:America/Los_Angeles
X-LIC-LOCATION:America/Los_Angeles
BEGIN:DAYLIGHT
TZOFFSETFROM:-0800
TZOFFSETTO:-0700
TZNAME:PDT
DTSTART:19700308T020000
RRULE:FREQ=YEARLY;BYMONTH=3;BYDAY=2SU
END:DAYLIGHT
BEGIN:STANDARD
TZOFFSETFROM:-0700
TZOFFSETTO:-0800
TZNAME:PST
DTSTART:19701101T020000
RRULE:FREQ=YEARLY;BYMONTH=11;BYDAY=1SU
END:STANDARD
END:VTIMEZONE
BEGIN:VEVENT
UID:1688216:Event:361468
DTSTAMP:20260422T111213Z
SUMMARY:Korea National Barista Championship.
DESCRIPTION:Internet Live\nClick http://tvpot.daum.net/video/live/Top.
 do?lu=t_l_channel_live\n\nAnd click barista championship.\n\nFor more 
 information visit https://www.baristaexchange.com/events/korea-nationa
 l-barista
DTSTART;TZID=America/Los_Angeles:20090306T100000
DTEND;TZID=America/Los_Angeles:20090307T160000
CATEGORIES:barista, championship
LOCATION:South Korea
WEBSITE:
URL:
CONTACT:
ORGANIZER;CN="Hoon Song":https://www.baristaexchange.com/profile/HoonS
 ong
ATTACH;FMTTYPE="image/jpeg":
ATTENDEE;ROLE=REQ-PARTICIPANT;PARTSTAT=ACCEPTED;RSVP=TRUE;CN="Hoon Son
 g":https://www.baristaexchange.com/profile/HoonSong
END:VEVENT
END:VCALENDAR
