BEGIN:VCALENDAR
PRODID:NingEventWidget-v1
VERSION:2.0
METHOD:PUBLISH
BEGIN:VTIMEZONE
TZID:America/Los_Angeles
X-LIC-LOCATION:America/Los_Angeles
BEGIN:DAYLIGHT
TZOFFSETFROM:-0800
TZOFFSETTO:-0700
TZNAME:PDT
DTSTART:19700308T020000
RRULE:FREQ=YEARLY;BYMONTH=3;BYDAY=2SU
END:DAYLIGHT
BEGIN:STANDARD
TZOFFSETFROM:-0700
TZOFFSETTO:-0800
TZNAME:PST
DTSTART:19701101T020000
RRULE:FREQ=YEARLY;BYMONTH=11;BYDAY=1SU
END:STANDARD
END:VTIMEZONE
BEGIN:VEVENT
UID:1688216:Event:619940
DTSTAMP:20260424T050617Z
SUMMARY:Kickin' It In Kirkwood @ Gathering Grounds
DESCRIPTION:Maria Howell, most known for her \"church-scene\" role in 
 the movie \"The Color Purple\", will performing at Gathering Grounds C
 offeehouse for a second rendition of \"Kickin' It In Kirkwood. Spoken-
 Word Artist, Dennis Coburn will be in the house performing original po
 ems and recitations.\n\nFor more information visit https://www.barista
 exchange.com/events/kickin-it-in-kirkwood
DTSTART;TZID=America/Los_Angeles:20090925T200000
DTEND;TZID=America/Los_Angeles:20090925T220000
CATEGORIES:live, jazz, and, spoken-word
LOCATION:Gathering Grounds Coffeehouse
WEBSITE:http://www.gatheringgroundskirkwood.com
URL:http://www.gatheringgroundskirkwood.com
CONTACT:404-228-7369
ORGANIZER;CN="Roderick Smith":https://www.baristaexchange.com/profile/
 RoderickSmith
ATTACH;FMTTYPE="image/jpeg":http://storage.ning.com/topology/rest/1.0/
 file/get/91910692?profile=original
ATTENDEE;ROLE=REQ-PARTICIPANT;PARTSTAT=ACCEPTED;RSVP=TRUE;CN="Roderick
  Smith":https://www.baristaexchange.com/profile/RoderickSmith
END:VEVENT
END:VCALENDAR
