BEGIN:VCALENDAR
PRODID:NingEventWidget-v1
VERSION:2.0
METHOD:PUBLISH
BEGIN:VTIMEZONE
TZID:America/Los_Angeles
X-LIC-LOCATION:America/Los_Angeles
BEGIN:DAYLIGHT
TZOFFSETFROM:-0800
TZOFFSETTO:-0700
TZNAME:PDT
DTSTART:19700308T020000
RRULE:FREQ=YEARLY;BYMONTH=3;BYDAY=2SU
END:DAYLIGHT
BEGIN:STANDARD
TZOFFSETFROM:-0700
TZOFFSETTO:-0800
TZNAME:PST
DTSTART:19701101T020000
RRULE:FREQ=YEARLY;BYMONTH=11;BYDAY=1SU
END:STANDARD
END:VTIMEZONE
BEGIN:VEVENT
UID:1688216:Event:884100
DTSTAMP:20260425T115512Z
SUMMARY:Kaldis Summer Jam 2010
DESCRIPTION:This one day jam will focus on how to use, influence, and 
 grow business through single origin coffees. Special guests include Ch
 ris Davidson from Atlas Coffee Importers, Bob Garver, owner of Wicked 
 Joe's Coffee and WBC certified judge and USBC certified head judge, as
  well as Dan Streetman, a USBC certified head judge from Dallis Coffee
  in Queens, NY.\n\nClasses will focus on brewing methods, objective ta
 sting, single origin espresso, origin visits, and a round-table discus
 sion with our special guests. Registration and the jam schedule are no
 w available.\n\nFor more information visit https://www.baristaexchange
 .com/events/kaldis-summer-jam-2010
DTSTART;TZID=America/Los_Angeles:20100724T000000
DTEND;TZID=America/Los_Angeles:20100724T235900
CATEGORIES:barista, jam
LOCATION:Kaldi's Coffee Roasting Plant and Barista Education Center
WEBSITE:http://kaldiscoffee.com
URL:http://kaldiscoffee.com
CONTACT:314.727.9991
ORGANIZER:Kaldis Coffee Roasters
ATTACH;FMTTYPE="image/jpeg":http://storage.ning.com/topology/rest/1.0/
 file/get/91918707?profile=original
ATTENDEE;ROLE=REQ-PARTICIPANT;PARTSTAT=ACCEPTED;RSVP=TRUE;CN="Chris/Da
 le":https://www.baristaexchange.com/profile/ChrisDale
END:VEVENT
END:VCALENDAR
